BEGIN:VCALENDAR
VERSION:2.0
PRODID:-//GREYC UMR CNRS 6072 - Groupe de Recherche en Informatique, Image, et Instrumentation de Caen - ECPv5.7.0//NONSGML v1.0//EN
CALSCALE:GREGORIAN
METHOD:PUBLISH
X-WR-CALNAME:GREYC UMR CNRS 6072 - Groupe de Recherche en Informatique, Image, et Instrumentation de Caen
X-ORIGINAL-URL:https://www.greyc.fr
X-WR-CALDESC:évènements pour GREYC UMR CNRS 6072 - Groupe de Recherche en Informatique, Image, et Instrumentation de Caen
BEGIN:VTIMEZONE
TZID:Europe/Paris
BEGIN:DAYLIGHT
TZOFFSETFROM:+0100
TZOFFSETTO:+0200
TZNAME:CEST
DTSTART:20210328T010000
END:DAYLIGHT
BEGIN:STANDARD
TZOFFSETFROM:+0200
TZOFFSETTO:+0100
TZNAME:CET
DTSTART:20211031T010000
END:STANDARD
END:VTIMEZONE
BEGIN:VEVENT
DTSTART;VALUE=DATE:20210531
DTEND;VALUE=DATE:20210604
DTSTAMP:20260424T222504
CREATED:20210519T091240Z
LAST-MODIFIED:20210519T094314Z
UID:10401-1622419200-1622764799@www.greyc.fr
SUMMARY:L'HCERES visite le GREYC
DESCRIPTION:Du 31 mai au 3 juin\, le GREYC a le plaisir de présenter ses activités de recherche au comité d’experts de l’HCERES\, le Haut Conseil de l’évaluation de la recherche et de l’enseignement supérieur. \nPendant ces 4 jours\, cette visite\, exceptionnellement en distanciel\, permettra aux membres du comité d’échanger avec les différents personnels de notre unité de recherche\, chercheurs\, enseignants-chercheurs\, ingénieurs\, techniciens\, administratifs\, et de découvrir toutes les richesses de l’unité. \nRéunion plénière\, huis-clos\, focus sur chacune des équipes de recherche\, séances de démonstrations des prototypes réalisés\, découverte des ressources matérielles du laboratoire… un planning chargé mais très complet qui permettra aux experts d’évaluer les travaux de recherche menés au GREYC. \n  \nNous leur souhaitons la bienvenue !
URL:https://www.greyc.fr/event/lhceres-visite-le-greyc/
LOCATION:En distanciel
CATEGORIES:General,News
ORGANIZER;CN="GREYC":MAILTO:contact@greyc.fr
END:VEVENT
END:VCALENDAR