BEGIN:VCALENDAR
VERSION:2.0
PRODID:-//GREYC UMR CNRS 6072 - Groupe de Recherche en Informatique, Image, et Instrumentation de Caen - ECPv5.7.0//NONSGML v1.0//EN
CALSCALE:GREGORIAN
METHOD:PUBLISH
X-WR-CALNAME:GREYC UMR CNRS 6072 - Groupe de Recherche en Informatique, Image, et Instrumentation de Caen
X-ORIGINAL-URL:https://www.greyc.fr
X-WR-CALDESC:évènements pour GREYC UMR CNRS 6072 - Groupe de Recherche en Informatique, Image, et Instrumentation de Caen
BEGIN:VTIMEZONE
TZID:Europe/Paris
BEGIN:DAYLIGHT
TZOFFSETFROM:+0100
TZOFFSETTO:+0200
TZNAME:CEST
DTSTART:20220327T010000
END:DAYLIGHT
BEGIN:STANDARD
TZOFFSETFROM:+0200
TZOFFSETTO:+0100
TZNAME:CET
DTSTART:20221030T010000
END:STANDARD
END:VTIMEZONE
BEGIN:VEVENT
DTSTART;TZID=Europe/Paris:20221110T140000
DTEND;TZID=Europe/Paris:20221110T153000
DTSTAMP:20260423T194319
CREATED:20221017T155500Z
LAST-MODIFIED:20230307T085501Z
UID:10977-1668088800-1668094200@www.greyc.fr
SUMMARY:Séminaire IMAGE: Phuc Ngo (Université de Lorraine)\, « Structures discrètes pour l'étude des courbes bruitées et leurs applications en analyse d'images ».
DESCRIPTION:Nous aurons le plaisir d’accueillir Phuc Ngo (https://members.loria.fr/HDPNgo/)\, MC de l’université de Lorraine la semaine du 7 novembre.\nElle donnera un séminaire IMAGE\, le jeudi 10 novembre à 14h00\, en salle F-200.\nTitre : Structures discrètes pour l’étude des courbes bruitées et leurs applications en analyse d’images.\nRésumé :\nDurant l’acquisition\, les images peuvent subir des fluctuations parasites ou des dégradations qui engendrent ensuite du bruit sur l’image. Dans de nombreuses applications en vision par ordinateur\, la présence de bruit peut rendre difficile la tâche d’analyse\, et affecter considérablement les résultats finaux. Dans ce travail\, nous nous intéressons à différents outils géométriques efficaces permettant d’analyser et d’étudier des courbes discrètes bruitées qui correspondent aux contours d’objets présents dans une image.\nDans le domaine de la géométrie discrète\, la couverture tangentielle est un outil permettant d’étudier les caractéristiques géométriques des courbes discrètes. Dans cet exposé\, nous présenterons une variante de cette structure pour l’étude des courbes bruitées : la couverture tangentielle adaptative. Elle repose sur deux notions : (1) les segments flous et (2) l’épaisseur significative. La particularité de la couverture tangentielle adaptative est qu’elle est composée de segments flous d’épaisseurs variées qui s’adaptent automatiquement et localement au bruit présent sur la courbe. Cette structure conduit à de nombreuses applications dans le domaine de l’analyse d’images et de reconnaissance de formes telle que la représentation de formes\, la vectorisation d’images\, la décomposition de courbes\, etc. Une extension de la structure de couverture tangentielle adaptative pour des courbes discrètes 3D est également présentée avec ses applications pour des estimateurs géométriques de tangentes et de courbure.\n 
URL:https://www.greyc.fr/event/seminaire-image-phuc-ngo-mdc-de-luniversite-de-lorraine-structures-discretes-pour-letude-des-courbes-bruitees-et-leurs-applications-en-analyse-dimages/
LOCATION:ENSICAEN – Batiment F – Salle F-200\, 6 Bd Maréchal Juin\, Caen\, 14050\, France
CATEGORIES:General,Image,Seminaire Image
END:VEVENT
BEGIN:VEVENT
DTSTART;TZID=Europe/Paris:20221114T100000
DTEND;TZID=Europe/Paris:20221114T110000
DTSTAMP:20260423T194319
CREATED:20221107T142308Z
LAST-MODIFIED:20221107T142308Z
UID:10989-1668420000-1668423600@www.greyc.fr
SUMMARY:Séminaire : Hsien-Kuei Hwang (Institute of Statistical Sciences de l'Academia Sinica\, Taipei\, Taïwan) « A curious identity in connection with saddle-point method and Stirling’s formula »
DESCRIPTION:Hsien-Kuei Hwang professeur à l’Institute of Statistical Sciences de l’Academia Sinica (Taipei\, Taïwan) donnera un séminaire le 14 Novembre à 10h en S3-351. \nHsien-Kuei nous parlera d’une curieuse identité provenant de la formule de Stirling et liée à la méthode du point col (A curious identity in connection with saddle-point method and Stirling’s formula.) \nPour les plus curieux\, l’article est disponible ici :http://algo.stat.sinica.edu.tw/hk/wp-content/files/2022/04/saddle-variants.pdf
URL:https://www.greyc.fr/event/seminaire-hsien-kuei-hwang-institute-of-statistical-sciences-de-lacademia-sinica-taipei-taiwan-a-curious-identity-in-connection-with-saddle-point-method-and-stirlings-formula/
LOCATION:Sciences 3- S3 351
CATEGORIES:General
END:VEVENT
BEGIN:VEVENT
DTSTART;TZID=Europe/Paris:20221115T100000
DTEND;TZID=Europe/Paris:20221115T110000
DTSTAMP:20260423T194319
CREATED:20220914T075345Z
LAST-MODIFIED:20221107T135903Z
UID:10919-1668506400-1668510000@www.greyc.fr
SUMMARY:SÉMINAIRE ALGO : Justine Reynaud (GREYC\, Caen) « Analyse de Concepts Formels et découverte de Redescriptions - une application au web des données »
DESCRIPTION:Dans un premier temps\, je présenterai l’Analyse de Concepts Formels (FCA — Formal Concept Analysis) qui est le cadre théorique sur lequel je m’appuie pour faire de la fouille de données. Intuitivement\, il s’agit de considérer un ensemble d’objets G\, un ensemble d’attributs M\, et une relation binaire I ⊆ G×M où gIm s’interprète comme « l’objet g possède l’attribut m« . J’évoquerai quelques approches qui permettent de généraliser la FCA\, en utilisant des données structurées ou en considérant plus de dimensions par exemple. \nDans un second temps\, je présenterai la Découverte de Redescriptions\, qui consiste à trouver deux motifs distincts caractérisant un même ensemble d’objets. J’expliquerai ce qui motive\, selon moi\, l’intérêt de s’appuyer sur le formalisme de la FCA pour s’intéresser à ce problème. \nEnfin\, je présenterai quelques expérimentations réalisées lors de ma thèse sur des données issues de DBPedia\, une base de connaissances du web des données qui peut être considérée comme un graphe orienté et labellisé.
URL:https://www.greyc.fr/event/seminaire-algo-justine-reynaud-greyc-caen/
LOCATION:Sciences 3- S3 351
CATEGORIES:General,Séminaire Algo
END:VEVENT
BEGIN:VEVENT
DTSTART;TZID=Europe/Paris:20221117T140000
DTEND;TZID=Europe/Paris:20221117T160000
DTSTAMP:20260423T194319
CREATED:20221108T090331Z
LAST-MODIFIED:20230307T084204Z
UID:10991-1668693600-1668700800@www.greyc.fr
SUMMARY:Séminaire IMAGE : Edouard Oyallon (ISIR)\, « Learning is boring: image classification with patches »
DESCRIPTION:Nous aurons le plaisir d’accueillir Edouard Oyallon (https://edouardoyallon.github.io/)\, CR CNRS à l’ISIR\, le jeudi 17 novembre 2022 à 14h00\, en salle F-106.\nTitre : Learning is boring: image classification with patches\nRésumé :\nI will discuss several old and recent results suggesting that simple baselines are still of interest even in large-scale Deep Learning applications. By simple\, I mean those baselines are often shallow(with only a few ad-hoc layers)\, involve limited learning\, and potentially some low-level representations like a dictionary of patches or cascade of wavelets. However\, surprisingly\, those representations are competitive on complex datasets.
URL:https://www.greyc.fr/event/seminaire-image-edouard-oyallon-mlia-lip6-learning-is-boring-image-classification-with-patches/
LOCATION:FA-106
CATEGORIES:General,Image,Seminaire Image
END:VEVENT
BEGIN:VEVENT
DTSTART;TZID=Europe/Paris:20221122T100000
DTEND;TZID=Europe/Paris:20221122T110000
DTSTAMP:20260423T194319
CREATED:20220914T075456Z
LAST-MODIFIED:20221116T083811Z
UID:10921-1669111200-1669114800@www.greyc.fr
SUMMARY:SÉMINAIRE ALGO : Daria Pchelina (LIPN\, Univ. Paris 13) « Densité des empilements de sphères : des pièces de monnaie aux oranges »
DESCRIPTION:Comment empiler un nombre infini d’oranges pour maximiser la proportion de l’espace couvert ? Kepler a conjecturé que l’empilement des “balles de canon” est optimal. 400 ans se sont écoulés avant que cette conjecture soit démontrée par Hales et Ferguson dont la preuve comporte 6 papiers et plus de 50000 lignes de code. \nComment arranger un nombre infini de pièces de monnaie de 3 rayons différents sur une table infinie pour maximiser la proportion de la surface couverte ? Un arrangement de disques est dit triangulé si chacun de ses “trous” est borné par trois disques tangents. Connelly a conjecturé que si de tels arrangements existent\, l’un d’eux maximise la proportion de la surface couverte. Nous avons démontré cette assertion pour 31 triplets de rayons de disques et l’avons réfutée pour 40 autres triplets. \nJe vais vous présenter nos résultats sur les arrangements triangulés à 3 disques et les analogies entre notre preuve et celle de la conjecture de Kepler.
URL:https://www.greyc.fr/event/seminaire-algo-adeline-roux-langlois-greyc-caen/
LOCATION:Sciences 3- S3 351
CATEGORIES:General,Séminaire Algo
END:VEVENT
BEGIN:VEVENT
DTSTART;TZID=Europe/Paris:20221129T100000
DTEND;TZID=Europe/Paris:20221129T110000
DTSTAMP:20260423T194319
CREATED:20221107T140629Z
LAST-MODIFIED:20221130T123757Z
UID:10986-1669716000-1669719600@www.greyc.fr
SUMMARY:Séminaire Algo : Adeline Roux-Langlois (GREYC\, Caen) « Introduction to lattice based cryptography »
DESCRIPTION:The goal of cryptography is to safely communicate\, and it is widely used when connecting to a website or during a banking transaction for example. But some cryptographic constructions used today could be attacked given a powerful enough quantum computer. Even if such a computer does not exist yet\, it is important to anticipate its possible construction and to prepare a transition to cryptographic tools having a security resistant against attacks from quantum computers. \nIn this talk\, I will introduce lattice-based cryptography\, which is the most promising candidate to build post-quantum cryptographic constructions. I will first describe the main ideas and the hard problems on which is based the security of the cryptographic constructions. Then I will present a high level overview of my research works in this area.
URL:https://www.greyc.fr/event/seminaire-algo-adeline-roux-langlois-greyc-caen-2/
LOCATION:Sciences 3- S3 351
CATEGORIES:General,Séminaire Algo
END:VEVENT
END:VCALENDAR