BEGIN:VCALENDAR
VERSION:2.0
PRODID:-//GREYC UMR CNRS 6072 - Groupe de Recherche en Informatique, Image, et Instrumentation de Caen - ECPv5.7.0//NONSGML v1.0//EN
CALSCALE:GREGORIAN
METHOD:PUBLISH
X-WR-CALNAME:GREYC UMR CNRS 6072 - Groupe de Recherche en Informatique, Image, et Instrumentation de Caen
X-ORIGINAL-URL:https://www.greyc.fr
X-WR-CALDESC:évènements pour GREYC UMR CNRS 6072 - Groupe de Recherche en Informatique, Image, et Instrumentation de Caen
BEGIN:VTIMEZONE
TZID:Europe/Paris
BEGIN:DAYLIGHT
TZOFFSETFROM:+0100
TZOFFSETTO:+0200
TZNAME:CEST
DTSTART:20230326T010000
END:DAYLIGHT
BEGIN:STANDARD
TZOFFSETFROM:+0200
TZOFFSETTO:+0100
TZNAME:CET
DTSTART:20231029T010000
END:STANDARD
END:VTIMEZONE
BEGIN:VEVENT
DTSTART;VALUE=DATE:20231005
DTEND;VALUE=DATE:20231007
DTSTAMP:20260423T002800
CREATED:20231004T152517Z
LAST-MODIFIED:20231004T152741Z
UID:11272-1696464000-1696636799@www.greyc.fr
SUMMARY:11èmes journées de la Société Française de chémoinformatique
DESCRIPTION:les 11èmes journées de la Société Française de chémoinformatique se dérouleront les jeudi 5 et vendredi 6 octobre 2023 dans l’enceinte du château de Caen.\nL’événement est organisé conjointement par le GREYC et le CERMN (laboratoire de chimie thérapeutique de l’Université)\, il réunira la communauté francophone de traitement de l’information chimique. \nPlus d’informations à https://sfci-11.sciencesconf.org/
URL:https://www.greyc.fr/event/11emes-journees-de-la-societe-francaise-de-chemoinformatique/
CATEGORIES:General,News
END:VEVENT
BEGIN:VEVENT
DTSTART;TZID=Europe/Paris:20231010T100000
DTEND;TZID=Europe/Paris:20231010T110000
DTSTAMP:20260423T002800
CREATED:20230911T083459Z
LAST-MODIFIED:20230925T074513Z
UID:11248-1696932000-1696935600@www.greyc.fr
SUMMARY:Séminaire Algorithmique : « The structure of quasi-transitive graphs avoiding a minor with applications to the Domino Conjecture »\, Ugo Giocanti (G-Scop\, Univ. Grenoble)
DESCRIPTION:An infinite graph is quasi-transitive if the action of its automorphism group on its vertex set has finitely many orbits. Roughly speaking\, this means that the graph has a lot of symmetries. Starting with the work of Maschke (1896)\, a lot of work have been done on the structure of planar Cayley graphs\,and more generally of planar quasi-transitive graphs. On the opposite\, only few research has been done about the more general class of minor-excluded quasi-transitive graphs. In this talk\, I will present a structure theorem for such graphs\, which is reminiscent of the Robertson-Seymour Graph MinorStructure Theorem. The proof of our result is mainly based on a combination of the work of Thomassen (1992) together with an extensive study of Grohe (2016) on the properties of separations of order 3 in finite graphs. Our proof involves some technical notions from structural graph theory and I will spend some time to present some of the key concepts involved and especially how they must be adapted to take into account the symmetries of the studied graph. Eventually I will explain how such a result can be used to prove the so called domino problem conjecture for minor-excluded groups\, extending previous results from Berger (1966) and Aubrun\, Barbieri and Moutot (2019). I will also spend time to present other applications both at the group and at the graph level. \nThis is a joint work with Louis Esperet and Clément Legrand-Duchesne.
URL:https://www.greyc.fr/event/seminaire-algorithmique-ugo-giocanti-g-scop-univ-grenoble/
LOCATION:Sciences 3- S3 351
CATEGORIES:General,News,Séminaire Algo
END:VEVENT
BEGIN:VEVENT
DTSTART;TZID=Europe/Paris:20231017T100000
DTEND;TZID=Europe/Paris:20231017T110000
DTSTAMP:20260423T002800
CREATED:20230911T083644Z
LAST-MODIFIED:20230925T074417Z
UID:11250-1697536800-1697540400@www.greyc.fr
SUMMARY:Séminaire Algorithmique : « Une extension probabiliste de la suite d’Oldenburger-Kolakoski »\, Irène Marcovici (LITIS\, Univ. Rouen)
DESCRIPTION:La suite d’Oldenburger-Kolakoski est l’unique suite infinie sur l’alphabet {1\,2} qui commence par un 1 et est un point fixe de l’application de codage par plage. Dans cet exposé\, nous prendrons un peu de recul par rapport à cette suite bien connue et très étudiée\, en introduisant de l’aléa dans le choix des lettres écrites. Cela nous permettra de montrer des résultats portant sur la convergence de la densité de 1 dans les suites ainsi construites. Dans le cas où les lettres sont choisies selon une suite i.i.d. de variables aléatoires ou selon une chaîne de Markov\, la densité moyenne de 1 converge. De plus\, dans le cas i.i.d.\, nous arrivons même à démontrer que la densité converge presque sûrement. Pour terminer\, je présenterai quelques résultats portant sur des suites déterministes construites selon un procédé similaire. \nIl s’agit d’un travail réalisé en collaboration avec Chloé Boisson\, Damien Jamet\, et Mai-Linh Trân Công.
URL:https://www.greyc.fr/event/seminaire-algorithmique-irene-marcovici-litis-univ-rouen/
LOCATION:Sciences 3- S3 351
CATEGORIES:General,News,Séminaire Algo
END:VEVENT
END:VCALENDAR