BEGIN:VCALENDAR
VERSION:2.0
PRODID:-//GREYC UMR CNRS 6072 - Groupe de Recherche en Informatique, Image, et Instrumentation de Caen - ECPv5.7.0//NONSGML v1.0//EN
CALSCALE:GREGORIAN
METHOD:PUBLISH
X-WR-CALNAME:GREYC UMR CNRS 6072 - Groupe de Recherche en Informatique, Image, et Instrumentation de Caen
X-ORIGINAL-URL:https://www.greyc.fr
X-WR-CALDESC:évènements pour GREYC UMR CNRS 6072 - Groupe de Recherche en Informatique, Image, et Instrumentation de Caen
BEGIN:VTIMEZONE
TZID:Europe/Paris
BEGIN:DAYLIGHT
TZOFFSETFROM:+0100
TZOFFSETTO:+0200
TZNAME:CEST
DTSTART:20240331T010000
END:DAYLIGHT
BEGIN:STANDARD
TZOFFSETFROM:+0200
TZOFFSETTO:+0100
TZNAME:CET
DTSTART:20241027T010000
END:STANDARD
END:VTIMEZONE
BEGIN:VEVENT
DTSTART;TZID=Europe/Paris:20240505T080000
DTEND;TZID=Europe/Paris:20240603T170000
DTSTAMP:20260422T043848
CREATED:20240505T183401Z
LAST-MODIFIED:20240505T183704Z
UID:11492-1714896000-1717434000@www.greyc.fr
SUMMARY:Recrutement d'un technicien BAP E en NOEMI CNRS
DESCRIPTION:Le laboratoire GREYC recrute un technicien BAP E (NOEMI CNRS)\, n’hésitez pas à candidater ! \nPour des détails consulter ce lien.
URL:https://www.greyc.fr/event/11492/
CATEGORIES:General,News
END:VEVENT
BEGIN:VEVENT
DTSTART;TZID=Europe/Paris:20240506T080000
DTEND;TZID=Europe/Paris:20240517T170000
DTSTAMP:20260422T043848
CREATED:20240506T151315Z
LAST-MODIFIED:20240518T084957Z
UID:11497-1714982400-1715965200@www.greyc.fr
SUMMARY:Recrutement de 6 enseignant.e.s-chercheur.se.s en TAL\, Apprentissage\, IA et Algorithmique\, Sécurité Informatique(CPER avec charge d'enseignement réduite)
DESCRIPTION:Dans le cadre des projets CMA SATIN\, NORMANTHIIA et CYRCE\, l’Université de Caen Normandie recrute six enseignant.e.s-chercheur.se.s en traitement automatique des langues\, apprentissage machine\, intelligence artificielle et algorithmique\, et sécurité informatique (contrats de projet d’enseignement et de recherche avec charge d’enseignement réduite). La personne recrutée sera rattachée au département MIM de l’UFR des Sciences et au laboratoire GREYC UMR 6072.\n\nProfil Traitement Automatique des Langues et Apprentissage :\n\nhttps://choisirleservicepublic.gouv.fr/offre-emploi/enseignement–recherche-en-traitement-automatique-des-langues-et-apprentissage-applique-a-la-sante-reference-2024-1544476/\n\n\nProfil Intelligence Artificielle et/ou Science des données :\n\nhttps://choisirleservicepublic.gouv.fr/offre-emploi/enseignement–recherche-en-intelligence-artificielle-etou-science-des-donnees-appliquee-a-la-sante-reference-2024-1544478/\n\n\nProfil Intelligence Artificielle et Algorithmique :\n\nhttps://choisirleservicepublic.gouv.fr/offre-emploi/contrat-enseignement–recherche-dans-les-domaines-de-l-intelligence-artificielle-et-de-l-algorithmique-reference-2024-1544465/\n\n\nProfil Intelligence Artificielle et Algorithmique :\n\nhttps://choisirleservicepublic.gouv.fr/offre-emploi/contrat-enseignement–recherche-dans-les-domaines-de-l-intelligence-artificielle-et-de-l-algorithmique-reference-2024-1544461/\n\n\nProfil Sécurité Informatique (2 postes) :\n\nhttps://choisirleservicepublic.gouv.fr/offre-emploi/2-postes-enseignement–recherche-en-securite-informatique-reference-2024-1544484/\n\n\n\nLes intitulés de poste se veulent génériques et permettent de défendre des projets de recherche variés.\nDes détails sur les postes sont visibles à\nhttps://www.unicaen.fr/universite/travailler-a-luniversite/personnels-enseignants-et-chercheurs/enseignants-contractuels/ \nLes candidats pourront déposer leur dossier complet (CV\, lettre de motivation et copie du dernier diplôme obtenu) par mail à sciences.direction@unicaen.fr avec copie à drh.recrutement.enseignants@unicaen.fr. \n\n\nDate limite de candidature : 17 Mai 2024.
URL:https://www.greyc.fr/event/recrutement-de-4-enseignant-e-s-chercheur-se-s-en-tal-apprentissage-ia-et-algorithmique-cper-avec-charge-denseignement-reduite/
CATEGORIES:General,News
END:VEVENT
BEGIN:VEVENT
DTSTART;TZID=Europe/Paris:20240507T080000
DTEND;TZID=Europe/Paris:20240607T170000
DTSTAMP:20260422T043848
CREATED:20240507T152324Z
LAST-MODIFIED:20240507T152511Z
UID:11505-1715068800-1717779600@www.greyc.fr
SUMMARY:Recrutement d'un apprenti de BUT 3 INFO pour le développement et déploiement de logiciels de recherche
DESCRIPTION:Le service Développement et Déploiement d’applications (DDA) du laboratoire GREYC UMR CNRS 6072 souhaite recruter un apprenti de BUT 3A INFO afin de maintenir\, déployer et documenter des applications logicielles portant sur ses activités de recherche. \nRetrouvez cette offre sur notre rubrique emploi à https://www.greyc.fr/laboratoire/#OffresPosteNonPermanent
URL:https://www.greyc.fr/event/11505/
CATEGORIES:General,News
END:VEVENT
BEGIN:VEVENT
DTSTART;TZID=Europe/Paris:20240507T100000
DTEND;TZID=Europe/Paris:20240507T170000
DTSTAMP:20260422T043848
CREATED:20240513T081850Z
LAST-MODIFIED:20240513T081850Z
UID:11511-1715076000-1715101200@www.greyc.fr
SUMMARY:Séminaire Algorithmique « Synthesis for fragments of first-order logic on data words »\, Julien Grange (LACL\, Univ. Paris-Est Créteil)
DESCRIPTION:We carry on the study initiated by Bérard et al.[1] of the reactive synthesis problem for distributed systems with an unbounded number of participants interacting with an uncontrollable environment. Executions of those systems are modeled by data words (i.e. finite or infinite words were positions are labeled by an unbounded alphabet)\, and specifications are given as first-order formulas. \nFirst\, we delineate the border between decidability and undecidability for the fragments introduced by Bérard et al.[1]. We then introduce prefix first-order logic\, a logic that implements a limited kind of order\, and show that this logic has a decidable synthesis problem on data words. \n[1] Bérard Béatrice\, et al. “Parameterized Synthesis for Fragments of First-Order Logic Over Data Words.” FoSSaCS. 2020.
URL:https://www.greyc.fr/event/seminaire-algorithmique-synthesis-for-fragments-of-first-order-logic-on-data-words-julien-grange-lacl-univ-paris-est-creteil/
LOCATION:Salle à déterminer
CATEGORIES:Amacc,General,News,Séminaire Algo
END:VEVENT
BEGIN:VEVENT
DTSTART;TZID=Europe/Paris:20240514T100000
DTEND;TZID=Europe/Paris:20240514T110000
DTSTAMP:20260422T043848
CREATED:20240513T082027Z
LAST-MODIFIED:20241003T140141Z
UID:11513-1715680800-1715684400@www.greyc.fr
SUMMARY:Séminaire Algorithmique « History-deterministic and explorable automata »\, Denis Kuperberg (LIP\, ENS Lyon)
DESCRIPTION:History-deterministic automata are intermediary between deterministic and nondeterministic ones\, and have been the object of thorough study in the last decade. They offer a way to get a better grasp of the power of nondeterminism\, by allowing only some aspects of it: nondeterministic choices are allowed to depend on the past of the computation but not on the future. I will present the state of the art on the understanding of these history-deterministic automata\, as well as open problems related to complexity questions. If time permits\, I will finish by presenting a recent generalization of history-determinism called explorable automata\, where more nondeterminism is allowed\, and some intriguing decidability questions remain open.
URL:https://www.greyc.fr/event/seminaire-algorithmique-synthesis-for-fragments-of-first-order-logic-on-data-words-denis-kuperberg-lip-ens-lyon/
LOCATION:Sciences 3- S3 351
CATEGORIES:Amacc,General,News,Séminaire Algo
END:VEVENT
BEGIN:VEVENT
DTSTART;TZID=Europe/Paris:20240518T080000
DTEND;TZID=Europe/Paris:20240616T170000
DTSTAMP:20260422T043848
CREATED:20240518T090127Z
LAST-MODIFIED:20240518T090241Z
UID:11521-1716019200-1718557200@www.greyc.fr
SUMMARY:Recrutement à l'IUT GON de 4 enseignant.e.s-chercheur.se.s en Informatique\, IA pour les gestion et l'analyse des données\, sécurité Informatique (CPER avec charge d’enseignement réduite)
DESCRIPTION:Dans le cadre des projets CMA NORMANTHIIA et CYRCE\, l’Université de Caen Normandie recrute quatre enseignant.e.s-chercheur.se.s en informatique\, intelligence artificielle pour la gestion et l’analyse des données\, et sécurité informatique (contrats de projet d’enseignement et de recherche avec charge d’enseignement réduite). La personne recrutée sera rattachée aux départements Informatique\, Réseaux et Télécom ou Sciences des données de l’IUT Grand Ouest Normandie (Sites de Caen\, Ifs et Lisieux) et au laboratoire GREYC UMR 6072. \n\nProfil Intelligence Artificielle pour la gestion et l’analyse de données :\nhttps://choisirleservicepublic.gouv.fr/offre-emploi/enseignant-en-informatique-et-intelligence-artificielle-pour-la-gestion-et-l-analyse-des-donnees-reference-2024-1568577/\nProfil Informatique :\nhttps://choisirleservicepublic.gouv.fr/offre-emploi/contrat-de-projet-d-enseignement-et-de-recherche-informatique-reference-2024-1568590/\nProfil Sécurité Informatique (2 postes) :\nhttps://choisirleservicepublic.gouv.fr/offre-emploi/contrat-de-projet-d-enseignement-et-de-recherche-informatique-reference-2024-1568598/\n\nLes intitulés de poste se veulent génériques et permettent de défendre des projets de recherche variés.\nDes détails sur les postes sont visibles à\nhttps://www.unicaen.fr/universite/travailler-a-luniversite/personnels-enseignants-et-chercheurs/enseignants-contractuels/\nLes candidats pourront déposer leur dossier complet (CV\, lettre de motivation et copie du dernier diplôme obtenu) par mail aux chefs de département avec copie à drh.recrutement.enseignants@unicaen.fr. \nDate limite de candidature : 16 Juin 2024.
URL:https://www.greyc.fr/event/recrutement-a-liut-gon-de-4-enseignant-e-s-chercheur-se-s-en-informatique-ia-pour-les-gestion-et-lanalyse-des-donnees-securite-informatique-cper-avec-charge-denseignement-reduite/
CATEGORIES:General,News
END:VEVENT
BEGIN:VEVENT
DTSTART;TZID=Europe/Paris:20240521T100000
DTEND;TZID=Europe/Paris:20240521T110000
DTSTAMP:20260422T043848
CREATED:20240513T082150Z
LAST-MODIFIED:20240524T150934Z
UID:11515-1716285600-1716289200@www.greyc.fr
SUMMARY:Séminaire Algorithmique : « Computability of extender sets in multidimensional subshifts »\, Léo Paviet Salomon (GREYC\, Caen)
DESCRIPTION:A classical result from the theory of formal languages\, the Myhill-Nerode theorem\, gives a necessary and sufficient condition in terms of congruence classes for a language to be regular. In this talk\, we try to adapt this result to the case of subshifts\, in which we consider potentially multidimensional infinite configurations rather than finite words. In particular\, we study the behavior of /extender entropy/\, a property introduced by R. Pavlov and T. French which is analogous to congruence classes in formal languages\, and obtain some computability characterizations on the possible extender entropies of various classes of subshifts.
URL:https://www.greyc.fr/event/seminaire-algorithmique-leo-paviet-salomon-greyc-caen/
LOCATION:Sciences 3- S3 351
CATEGORIES:Amacc,General,News,Séminaire Algo
END:VEVENT
BEGIN:VEVENT
DTSTART;TZID=Europe/Paris:20240529T080000
DTEND;TZID=Europe/Paris:20240622T170000
DTSTAMP:20260422T043848
CREATED:20240620T075753Z
LAST-MODIFIED:20240620T073904Z
UID:11534-1716969600-1719075600@www.greyc.fr
SUMMARY:Journée 2024 du laboratoire GREYC : 21 Juin 2024
DESCRIPTION:La journée 2024 du GREYC aura lieu à la CCI de Caen (1 Rue René Cassin\, 14280 Saint-Contest) le 21 Juin 2024. \nAu programme : présentations\, démonstrations ! \nInscriptions à https://tinyurl.com/greyc2024 \nConsultez le programme \n \n 
URL:https://www.greyc.fr/event/journee-2024-du-laboratoire-greyc-21-juin-2024/
CATEGORIES:General,News
END:VEVENT
BEGIN:VEVENT
DTSTART;TZID=Europe/Paris:20240529T140000
DTEND;TZID=Europe/Paris:20240529T150000
DTSTAMP:20260422T043848
CREATED:20240524T140023Z
LAST-MODIFIED:20240524T140023Z
UID:11524-1716991200-1716994800@www.greyc.fr
SUMMARY:Kévin Atighehchi - Untargeted Near-collision Attacks on 2FA Biometric Systems
DESCRIPTION:Un système de reconnaissance biométrique peut fonctionner en mode vérification\, où le système valide l’identité revendiquée par un utilisateur en comparant le modèle fourni avec le modèle enregistré. Les schémas de transformation biométrique produisent généralement des modèles binaires qui sont mieux traités par des schémas cryptographiques\, et la comparaison se base sur une distance qui divulgue des informations sur les similarités entre deux modèles biométriques. Les taux de fausses acceptations (FAR) et de fausses rejets (FRR)\, déterminés expérimentalement par l’ajustement des seuils de reconnaissance\, définissent la précision de la reconnaissance et donc la sécurité du système. À notre connaissance\, peu de travaux fournissent un traitement formel de la sécurité sous un minimum de fuite d’information\, c’est-à-dire le résultat binaire d’une comparaison avec un seuil. Dans cet article\, nous nous appuyons sur la modélisation probabiliste pour quantifier la robustesse des modèles binaires issus de la fusion d’un token pseudo-aléatoire stocké avec une donnée biométrique\, où ces deux facteurs sont fusionnés pour créer un token flou. Nous étudions l’influence de la taille des modèles\, de la taille de la base de données et du seuil sur la probabilité d’une near-collision. Nous mettons en évidence plusieurs attaques non ciblées en considérant des adversaires naïfs et adaptatifs. De manière intéressante\, ces attaques peuvent être lancées en ligne et hors ligne en mode vérification. Nous discutons du choix des paramètres à travers les attaques génériques présentées\, en soulignant que ces attaques ont des implications significatives pour ces systèmes biométriques.
URL:https://www.greyc.fr/event/kevin-atighehchi-untargeted-near-collision-attacks-on-2fa-biometric-systems/
LOCATION:Sciences 3- S3 351
CATEGORIES:General,News,Safe,Séminaire Cryptologie et sécurité
END:VEVENT
BEGIN:VEVENT
DTSTART;TZID=Europe/Paris:20240531T080000
DTEND;TZID=Europe/Paris:20240915T160000
DTSTAMP:20260422T043848
CREATED:20240531T131443Z
LAST-MODIFIED:20240625T121036Z
UID:11537-1717142400-1726416000@www.greyc.fr
SUMMARY:Recrutement pour une chaire de professeur junior "IA pour les sciences"
DESCRIPTION:L’université de Caen et le GREYC recrutent un.e professeur.e pour une chaire de professeur junior en « IA pour les sciences ». \nL’offre est disponible sur le site internet de l’université et sur EURAXESS. \n\n\n\n\nLes candidatures sont ouvertes du 31 mai 2024\, 10h00 (heure de Paris) au 15 Septembre 2024\, 16h00 (heure de Paris). Les dossiers de candidature sont à déposer sur Galaxie.
URL:https://www.greyc.fr/event/recrutement-dune-chaire-de-professeur-junior-ia-pour-les-sciences/
CATEGORIES:General,News
END:VEVENT
END:VCALENDAR