BEGIN:VCALENDAR
VERSION:2.0
PRODID:-//GREYC UMR CNRS 6072 - Groupe de Recherche en Informatique, Image, et Instrumentation de Caen - ECPv5.7.0//NONSGML v1.0//EN
CALSCALE:GREGORIAN
METHOD:PUBLISH
X-WR-CALNAME:GREYC UMR CNRS 6072 - Groupe de Recherche en Informatique, Image, et Instrumentation de Caen
X-ORIGINAL-URL:https://www.greyc.fr
X-WR-CALDESC:évènements pour GREYC UMR CNRS 6072 - Groupe de Recherche en Informatique, Image, et Instrumentation de Caen
BEGIN:VTIMEZONE
TZID:Europe/Paris
BEGIN:DAYLIGHT
TZOFFSETFROM:+0100
TZOFFSETTO:+0200
TZNAME:CEST
DTSTART:20240331T010000
END:DAYLIGHT
BEGIN:STANDARD
TZOFFSETFROM:+0200
TZOFFSETTO:+0100
TZNAME:CET
DTSTART:20241027T010000
END:STANDARD
END:VTIMEZONE
BEGIN:VEVENT
DTSTART;TZID=Europe/Paris:20241013T080000
DTEND;TZID=Europe/Paris:20241111T170000
DTSTAMP:20260421T192141
CREATED:20241013T154213Z
LAST-MODIFIED:20241013T154213Z
UID:11684-1728806400-1731344400@www.greyc.fr
SUMMARY:Recrutement à l'IUT GON d'un.e enseignant.e-chercheur.e en Informatique (CPER)
DESCRIPTION:Dans le cadre du projet CMA NORMANTHIIA\, l’Université de Caen Normandie recrute un.e enseignant.e.chercheur.e en informatique (contrats de projet d’enseignement et de recherche ). La personne recrutée sera rattachée au département Informatique de l’IUT Grand Ouest Normandie (Site de  Ifs) et au laboratoire GREYC UMR 6072. \nLe poste est décrit ici : https://choisirleservicepublic.gouv.fr/offre-emploi/contrat-de-projet-d-enseignement-et-de-recherche-informatique-reference-2024-1720837/ \nDes détails sont visibles à https://www.unicaen.fr/universite/travailler-a-luniversite/personnels-enseignants-et-chercheurs/enseignants-contractuels/ Les candidats pourront déposer leur dossier complet (CV\, lettre de motivation et copie du dernier diplôme obtenu) par mail au chef de département avec copie à drh.recrutement.enseignants@unicaen.fr. \nDate limite de candidature : 10/11/2024.
URL:https://www.greyc.fr/event/recrutement-a-liut-gon-dun-e-enseignant-e-chercheur-e-en-informatique-cper/
CATEGORIES:General,News
END:VEVENT
BEGIN:VEVENT
DTSTART;TZID=Europe/Paris:20241105T100000
DTEND;TZID=Europe/Paris:20241105T110000
DTSTAMP:20260421T192141
CREATED:20241003T131153Z
LAST-MODIFIED:20241018T134335Z
UID:11664-1730800800-1730804400@www.greyc.fr
SUMMARY:Séminaire Algorithmique : « Planar or almost planar graphs: topology to the rescue of algorithms »\, Arnaud de Mesmay (LIGM\, Univ. Paris-Est)
DESCRIPTION:Many graphs encountered in practice have a particular structure. For example\, road networks have few or no intersections when drawn in a plane. We will see how this type of property interacts with the combinatorics of graphs\, and often leads to the development of algorithms that are more efficient than in the general case. This will be an introductory talk focused on giving general principles and a toolbox for algorithm design on embedded graphs.
URL:https://www.greyc.fr/event/seminaire-algorithmique-planar-or-almost-planar-graphs-topology-to-the-rescue-of-algorithms-arnaud-de-mesmay-ligm-univ-paris-est/
LOCATION:Sciences 3- S3 351
CATEGORIES:General,News,Séminaire Algo
END:VEVENT
BEGIN:VEVENT
DTSTART;TZID=Europe/Paris:20241119T104500
DTEND;TZID=Europe/Paris:20241119T114500
DTSTAMP:20260421T192141
CREATED:20241118T093231Z
LAST-MODIFIED:20241119T091517Z
UID:11723-1732013100-1732016700@www.greyc.fr
SUMMARY:Séminaire Algorithmique : « Combinatoire énumérative et bijective de différentes familles de chemins de Dyck avec trous d’air »\, Rémi Maréchal (GREYC\, Caen)
DESCRIPTION:Cet exposé se situe dans le cadre de la combinatoire des chemins sur réseau. On introduit ici une généralisation des chemins de Dyck (dits “avec trous d’air”)\, avant de se pencher sur diverses questions classiques à leur sujet : énumération\, distributions de motifs\, étude de sous-ensembles\, etc. Ce faisant\, des suites d’entiers positifs (connues dans la littérature) apparaissent naturellement. Dès que possible\, on cherchera alors à relier les objets combinatoires décrits par ces suites aux chemins de Dyck avec trous d’air\, à travers des bijections explicites. \nLes travaux présentés ont été effectués pendant mon doctorat\, et correspondent à trois publications dont les co-auteurs sont Jean-Luc Baril\, Sergey Kirgizov\, Helmut Prodinger\, et Vincent Vajnovszki.
URL:https://www.greyc.fr/event/seminaire-algorithmique-combinatoire-enumerative-et-bijective-de-differentes-familles-de-chemins-de-dyck-avec-trous-dair-remi-marechal-greyc-caen/
LOCATION:Sciences 3- S3 351
CATEGORIES:Amacc,General,News,Séminaire Algo
END:VEVENT
BEGIN:VEVENT
DTSTART;TZID=Europe/Paris:20241126T100000
DTEND;TZID=Europe/Paris:20241126T110000
DTSTAMP:20260421T192141
CREATED:20241118T093614Z
LAST-MODIFIED:20241118T094835Z
UID:11725-1732615200-1732618800@www.greyc.fr
SUMMARY:Séminaire Algorithmique : « Un cafard sous le chapeau »\, Victor Luftalla (LIS\, Univ. Aix-Marseille)
DESCRIPTION:En 2023 Smith\, Myers\, Kaplan et Goodman-Strauss ont découvert le chapeau : une monotuile apériodique du plan euclidien. C’est-à-dire que l’on peut paver le plan euclidien avec des copies (à isométrie près) du chapeau\, mais qu’il est impossible de faire un pavage périodique. Simultanément\, Greenfeld et Tao ont prouvé l’existence d’un groupe finiment présenté (Z2×H où H est un groupe abélien fini) qui admet une monotuile apériodique. \nNous allons montrer comment on peut traduire certaines tuiles de pavages géométriques aux pavages de groupes et nous allons utiliser cette méthode sur le Chapeau pour construire le Cafard : une monotuile apériodique dans le groupe Γ=⟨α\,β\,γ∣α2\,β2\,γ2\,(αγ)6\,(βγ)3\,(αγ)2⟩. Cette construction nous donne donc une monotuile aperiodique explicite dans le groupe Γ qui est finiment présenté\, planaire et virtuellement Z2. \nTravaux en commun avec Anahí Gajardo\, Thierry Coulbois et Pierre Guillon \nhttps://hal.science/hal-04706651v1
URL:https://www.greyc.fr/event/seminaire-algorithmique-un-cafard-sous-le-chapeau-victor-luftalla-lis-univ-aix-marseille/
LOCATION:Sciences 3- S3 351
CATEGORIES:Amacc,General,News,Séminaire Algo
END:VEVENT
END:VCALENDAR