BEGIN:VCALENDAR
VERSION:2.0
PRODID:-//GREYC UMR CNRS 6072 - Groupe de Recherche en Informatique, Image, et Instrumentation de Caen - ECPv5.7.0//NONSGML v1.0//EN
CALSCALE:GREGORIAN
METHOD:PUBLISH
X-WR-CALNAME:GREYC UMR CNRS 6072 - Groupe de Recherche en Informatique, Image, et Instrumentation de Caen
X-ORIGINAL-URL:https://www.greyc.fr
X-WR-CALDESC:évènements pour GREYC UMR CNRS 6072 - Groupe de Recherche en Informatique, Image, et Instrumentation de Caen
BEGIN:VTIMEZONE
TZID:Europe/Paris
BEGIN:DAYLIGHT
TZOFFSETFROM:+0100
TZOFFSETTO:+0200
TZNAME:CEST
DTSTART:20210328T010000
END:DAYLIGHT
BEGIN:STANDARD
TZOFFSETFROM:+0200
TZOFFSETTO:+0100
TZNAME:CET
DTSTART:20211031T010000
END:STANDARD
END:VTIMEZONE
BEGIN:VEVENT
DTSTART;VALUE=DATE:20210615
DTEND;VALUE=DATE:20210616
DTSTAMP:20260424T222746
CREATED:20210519T083507Z
LAST-MODIFIED:20210519T205504Z
UID:10395-1623715200-1623801599@www.greyc.fr
SUMMARY:Journée thématique Santé et Sciences du Numérique
DESCRIPTION:Le GREYC organise le mardi 15 juin 2021 en salle multi-activité de l’ENSICAEN une journée thématique Santé et Sciences du Numérique. \nCette journée sera l’occasion d’échanges entre les chercheurs en sciences du numérique du GREYC et du LAC et leurs homologues du monde de la santé (CHU de Caen\, Centre Baclesse\, Cycéron\, laboratoire COMETE\, …). \nLes partenaires institutionnels Pôle TES\, Normandie Valorisation\, EPOPEA présenteront leurs structures\, les appels à projets relatifs à cette thématique et les mécanismes de financement. Quelques entreprises sont attendues en tant qu’intervenants ou comme participants (GE-Healthcare\, Forlabs). \nLe programme est accessible sur le site de la journée.\n \nVous serez les bienvenus pour assister à cette journée et vous pouvez diffuser l’information de l’événement. \n \nLes inscriptions gratuites mais obligatoires pour des raisons logistiques sont à faire avant le 31 mai sur le site de la journée (https://jt1gtsante.sciencesconf.org/).
URL:https://www.greyc.fr/event/journee-thematique-sante-et-sciences-du-numerique/
LOCATION:ENSICAEN – Bâtiment E – Salle multi-activité\, 6 boulevard Maréchal Juin\, Caen\, 14000\, France
CATEGORIES:General,News
ATTACH;FMTTYPE=image/png:https://www.greyc.fr/wp-content/uploads/2021/05/banniereSiteJT180pc2.png
ORGANIZER;CN="GREYC":MAILTO:contact@greyc.fr
END:VEVENT
END:VCALENDAR