BEGIN:VCALENDAR
VERSION:2.0
PRODID:-//GREYC UMR CNRS 6072 - Groupe de Recherche en Informatique, Image, et Instrumentation de Caen - ECPv5.7.0//NONSGML v1.0//EN
CALSCALE:GREGORIAN
METHOD:PUBLISH
X-WR-CALNAME:GREYC UMR CNRS 6072 - Groupe de Recherche en Informatique, Image, et Instrumentation de Caen
X-ORIGINAL-URL:https://www.greyc.fr
X-WR-CALDESC:évènements pour GREYC UMR CNRS 6072 - Groupe de Recherche en Informatique, Image, et Instrumentation de Caen
BEGIN:VTIMEZONE
TZID:Europe/Paris
BEGIN:DAYLIGHT
TZOFFSETFROM:+0100
TZOFFSETTO:+0200
TZNAME:CEST
DTSTART:20220327T010000
END:DAYLIGHT
BEGIN:STANDARD
TZOFFSETFROM:+0200
TZOFFSETTO:+0100
TZNAME:CET
DTSTART:20221030T010000
END:STANDARD
END:VTIMEZONE
BEGIN:VEVENT
DTSTART;TZID=Europe/Paris:20221114T100000
DTEND;TZID=Europe/Paris:20221114T110000
DTSTAMP:20260423T212104
CREATED:20221107T142308Z
LAST-MODIFIED:20221107T142308Z
UID:10989-1668420000-1668423600@www.greyc.fr
SUMMARY:Séminaire : Hsien-Kuei Hwang (Institute of Statistical Sciences de l'Academia Sinica\, Taipei\, Taïwan) « A curious identity in connection with saddle-point method and Stirling’s formula »
DESCRIPTION:Hsien-Kuei Hwang professeur à l’Institute of Statistical Sciences de l’Academia Sinica (Taipei\, Taïwan) donnera un séminaire le 14 Novembre à 10h en S3-351. \nHsien-Kuei nous parlera d’une curieuse identité provenant de la formule de Stirling et liée à la méthode du point col (A curious identity in connection with saddle-point method and Stirling’s formula.) \nPour les plus curieux\, l’article est disponible ici :http://algo.stat.sinica.edu.tw/hk/wp-content/files/2022/04/saddle-variants.pdf
URL:https://www.greyc.fr/event/seminaire-hsien-kuei-hwang-institute-of-statistical-sciences-de-lacademia-sinica-taipei-taiwan-a-curious-identity-in-connection-with-saddle-point-method-and-stirlings-formula/
LOCATION:Sciences 3- S3 351
CATEGORIES:General
END:VEVENT
END:VCALENDAR