BEGIN:VCALENDAR
VERSION:2.0
PRODID:-//GREYC UMR CNRS 6072 - Groupe de Recherche en Informatique, Image, et Instrumentation de Caen - ECPv5.7.0//NONSGML v1.0//EN
CALSCALE:GREGORIAN
METHOD:PUBLISH
X-WR-CALNAME:GREYC UMR CNRS 6072 - Groupe de Recherche en Informatique, Image, et Instrumentation de Caen
X-ORIGINAL-URL:https://www.greyc.fr
X-WR-CALDESC:évènements pour GREYC UMR CNRS 6072 - Groupe de Recherche en Informatique, Image, et Instrumentation de Caen
BEGIN:VTIMEZONE
TZID:Europe/Paris
BEGIN:DAYLIGHT
TZOFFSETFROM:+0100
TZOFFSETTO:+0200
TZNAME:CEST
DTSTART:20230326T010000
END:DAYLIGHT
BEGIN:STANDARD
TZOFFSETFROM:+0200
TZOFFSETTO:+0100
TZNAME:CET
DTSTART:20231029T010000
END:STANDARD
END:VTIMEZONE
BEGIN:VEVENT
DTSTART;TZID=Europe/Paris:20230328T100000
DTEND;TZID=Europe/Paris:20230328T110000
DTSTAMP:20260423T135648
CREATED:20230213T105951Z
LAST-MODIFIED:20230327T121726Z
UID:11102-1679997600-1680001200@www.greyc.fr
SUMMARY:Séminaire Algorithmique: ANNULÉ EN RAISON DU MOUVEMENT DE GRÈVE
DESCRIPTION:Silvère Gangloff (Univ. AGH\, Cracovie\, Pologne) « Classes de transitivité pour les sous-décalages de type fini multi-dimensionnels » \nCe travail est en commun avec B. Hellouin et P. Oprocha. Les sous-décalages de type fini multidimensionnels ont été étudiés dans les dernières décennies à travers le spectre de propriétés topologiques telles que la transitivité ou le mélange. Dans des travaux récents\, nous avons montré\, avec B. Hellouin et M. Sablik\, qu’en quantifiant ces propriétés\, il est possible de caractériser la complexité de ces systèmes dynamiques en fonction de la quantité de transitivité/mélange (en particulier du point de vue calculabilité). Cependant les différentes classes de transitivité (relatives à cette quantification) sont mal comprises dans le cas général. Avec B. Hellouin et P. Oprocha\, nous travaillons à caractériser ces classes dans le cadre restreint des Hom shifts\, c’est-à-dire les sous-décalages définis par des ensembles de motifs interdits consistant en des dominos dont les symboles ne sont pas voisins dans un graphe fini non-orienté. Dans cet exposé\, je présenterai le problème\, ainsi que des résultats obtenus et attendus dans cette direction\, qui laissent espérer une caractérisation complète des classes de transitivité dans le cas des Hom shifts.
URL:https://www.greyc.fr/event/seminaire-algorithmique-silvere-gangloff-univ-agh-cracovie-pologne/
LOCATION:Sciences 3- S3 351
CATEGORIES:Amacc,General,Séminaire Algo
END:VEVENT
END:VCALENDAR