BEGIN:VCALENDAR
VERSION:2.0
PRODID:-//GREYC UMR CNRS 6072 - Groupe de Recherche en Informatique, Image, et Instrumentation de Caen - ECPv5.7.0//NONSGML v1.0//EN
CALSCALE:GREGORIAN
METHOD:PUBLISH
X-WR-CALNAME:GREYC UMR CNRS 6072 - Groupe de Recherche en Informatique, Image, et Instrumentation de Caen
X-ORIGINAL-URL:https://www.greyc.fr
X-WR-CALDESC:évènements pour GREYC UMR CNRS 6072 - Groupe de Recherche en Informatique, Image, et Instrumentation de Caen
BEGIN:VTIMEZONE
TZID:Europe/Paris
BEGIN:DAYLIGHT
TZOFFSETFROM:+0100
TZOFFSETTO:+0200
TZNAME:CEST
DTSTART:20230326T010000
END:DAYLIGHT
BEGIN:STANDARD
TZOFFSETFROM:+0200
TZOFFSETTO:+0100
TZNAME:CET
DTSTART:20231029T010000
END:STANDARD
END:VTIMEZONE
BEGIN:VEVENT
DTSTART;VALUE=DATE:20230616
DTEND;VALUE=DATE:20230617
DTSTAMP:20260423T092357
CREATED:20230325T124405Z
LAST-MODIFIED:20230325T124832Z
UID:11153-1686873600-1686959999@www.greyc.fr
SUMMARY:Journée 2023 du laboratoire GREYC : 16 Juin 2023
DESCRIPTION:La journée 2023 du GREYC aura lieu à la CCI de Caen (1 Rue René Cassin\, 14280 Saint-Contest) le 16 Juin 2023. \nAu programme : présentations\, démonstrations ! \nInscriptions à https://tinyurl.com/GREYC2023
URL:https://www.greyc.fr/event/journee-2023-du-laboratoire-greyc-16-juin-2023/
LOCATION:CCI Caen\, 1 Rue René Cassin\, Saint-Contest\, 14280
CATEGORIES:General,News
END:VEVENT
END:VCALENDAR