BEGIN:VCALENDAR
VERSION:2.0
PRODID:-//GREYC UMR CNRS 6072 - Groupe de Recherche en Informatique, Image, et Instrumentation de Caen - ECPv5.7.0//NONSGML v1.0//EN
CALSCALE:GREGORIAN
METHOD:PUBLISH
X-WR-CALNAME:GREYC UMR CNRS 6072 - Groupe de Recherche en Informatique, Image, et Instrumentation de Caen
X-ORIGINAL-URL:https://www.greyc.fr
X-WR-CALDESC:évènements pour GREYC UMR CNRS 6072 - Groupe de Recherche en Informatique, Image, et Instrumentation de Caen
BEGIN:VTIMEZONE
TZID:Europe/Paris
BEGIN:DAYLIGHT
TZOFFSETFROM:+0100
TZOFFSETTO:+0200
TZNAME:CEST
DTSTART:20230326T010000
END:DAYLIGHT
BEGIN:STANDARD
TZOFFSETFROM:+0200
TZOFFSETTO:+0100
TZNAME:CET
DTSTART:20231029T010000
END:STANDARD
END:VTIMEZONE
BEGIN:VEVENT
DTSTART;TZID=Europe/Paris:20231121T100000
DTEND;TZID=Europe/Paris:20231121T110000
DTSTAMP:20260423T003116
CREATED:20231013T150649Z
LAST-MODIFIED:20231113T161049Z
UID:11285-1700560800-1700564400@www.greyc.fr
SUMMARY:Séminaire Algorithmique : « Samplelim: un package R pour l’échantillonnage de solutions à un problème linéaire inverse »\,Théo Grente (LMNO\, Caen)
DESCRIPTION:Utilisés notamment en écologie marine\, les réseaux trophiques sont une représentation sous forme de graphes dirigés et pondérés des interactions proies/prédateurs d’un écosystème. Les nœuds du graphe représentent alors les espèces et les arêtes leurs interactions sous forme d’échanges de matière organique appelés flux. Dans le but d’estimer la valeur de ces flux\, une classe de méthode appelée Modélisation Linéaire Inverse (LIM) a été développée. Cette méthode consiste à établir un système de contraintes sur ces flux à partir de mesures réalisées sur le terrain\, d’expériences en laboratoire et de connaissances issues de la bibliographie. Les équations et les inéquations de ce système de contraintes définissent un polytope à l’intérieur duquel se trouvent l’ensemble des solutions du système de contraintes. Afin de mieux comprendre le réseau trophique\, les écologues souhaitent obtenir un échantillon représentatif de l’ensemble des scénarios possibles\, ce qui revient à échantillonner de manière uniforme le polytope de solutions. \nDans cet exposé\, après un petit historique\, je présenterai Samplelim\, un nouveau package R que nous avons développé\, reposant sur une méthode de Monte-Carlo par chaînes de Markov pour réaliser cet échantillonnage. Cette présentation sera ensuite suivie d’une comparaison des performances de Samplelim avec d’autres implémentations existantes\, que ce soit au niveau du temps de calcul\, la corrélation entre les échantillons\, la convergence de la chaîne de Markov\, etc. \nTravail commun avec Matthieu Dien\, Valérie Girardin\, Nathalie Niquil\, Quentin Noguès et Philippe Regnault.
URL:https://www.greyc.fr/event/seminaire-algorithmique-samplelim-un-package-r-pour-lechantillonnage-de-solutions-a-un-probleme-lineaire-inverse-theo-grente-lmno-caen/
LOCATION:Sciences 3- S3 351
CATEGORIES:Amacc,General,News,Séminaire Algo
END:VEVENT
END:VCALENDAR