BEGIN:VCALENDAR
VERSION:2.0
PRODID:-//GREYC UMR CNRS 6072 - Groupe de Recherche en Informatique, Image, et Instrumentation de Caen - ECPv5.7.0//NONSGML v1.0//EN
CALSCALE:GREGORIAN
METHOD:PUBLISH
X-WR-CALNAME:GREYC UMR CNRS 6072 - Groupe de Recherche en Informatique, Image, et Instrumentation de Caen
X-ORIGINAL-URL:https://www.greyc.fr
X-WR-CALDESC:évènements pour GREYC UMR CNRS 6072 - Groupe de Recherche en Informatique, Image, et Instrumentation de Caen
BEGIN:VTIMEZONE
TZID:Europe/Paris
BEGIN:DAYLIGHT
TZOFFSETFROM:+0100
TZOFFSETTO:+0200
TZNAME:CEST
DTSTART:20240331T010000
END:DAYLIGHT
BEGIN:STANDARD
TZOFFSETFROM:+0200
TZOFFSETTO:+0100
TZNAME:CET
DTSTART:20241027T010000
END:STANDARD
END:VTIMEZONE
BEGIN:VEVENT
DTSTART;TZID=Europe/Paris:20240130T100000
DTEND;TZID=Europe/Paris:20240130T110000
DTSTAMP:20260422T211701
CREATED:20231215T143338Z
LAST-MODIFIED:20231215T143338Z
UID:11370-1706608800-1706612400@www.greyc.fr
SUMMARY:Séminaire Algorithmique : Géraud Sénizergues (LaBRI\, Univ. Bordeaux)
DESCRIPTION:
URL:https://www.greyc.fr/event/seminaire-algorithmique-geraud-senizergues-labri-univ-bordeaux/
LOCATION:Sciences 3- S3 351
CATEGORIES:Amacc,General,News,Séminaire Algo
END:VEVENT
END:VCALENDAR