BEGIN:VCALENDAR
VERSION:2.0
PRODID:-//GREYC UMR CNRS 6072 - Groupe de Recherche en Informatique, Image, et Instrumentation de Caen - ECPv5.7.0//NONSGML v1.0//EN
CALSCALE:GREGORIAN
METHOD:PUBLISH
X-WR-CALNAME:GREYC UMR CNRS 6072 - Groupe de Recherche en Informatique, Image, et Instrumentation de Caen
X-ORIGINAL-URL:https://www.greyc.fr
X-WR-CALDESC:évènements pour GREYC UMR CNRS 6072 - Groupe de Recherche en Informatique, Image, et Instrumentation de Caen
BEGIN:VTIMEZONE
TZID:Europe/Paris
BEGIN:DAYLIGHT
TZOFFSETFROM:+0100
TZOFFSETTO:+0200
TZNAME:CEST
DTSTART:20240331T010000
END:DAYLIGHT
BEGIN:STANDARD
TZOFFSETFROM:+0200
TZOFFSETTO:+0100
TZNAME:CET
DTSTART:20241027T010000
END:STANDARD
END:VTIMEZONE
BEGIN:VEVENT
DTSTART;TZID=Europe/Paris:20240319T100000
DTEND;TZID=Europe/Paris:20240319T110000
DTSTAMP:20260422T182715
CREATED:20240304T095601Z
LAST-MODIFIED:20240304T095601Z
UID:11446-1710842400-1710846000@www.greyc.fr
SUMMARY:Séminaire Algorithmique : « Discussion autour du Générateur Sac à dos »\, Florette Martinez (ENS Ulm)
DESCRIPTION:Le Générateur Sac à dos\, proposé en 1985 par Rueppel et Massey est un générateur pseudo aléatoire (PRNG) qui combine un premier PRNG faible\, le LFSR\, et un problème dur \,le problème de la somme de sous-ensemble\, dérivé du problème de sac à dos. Ce générateur a été attaqué avec succès par Knellwolf et Meyer en 2011. \nJe discuterai ici d’une variante plus efficace de cette attaque et des différentes attaques que j’ai pu proposer avec Damien Vergnaud et Charles Bouillaguet contre des variantes de ce générateur.
URL:https://www.greyc.fr/event/seminaire-algorithmique-discussion-autour-du-generateur-sac-a-dos-florette-martinez-ens-ulm/
LOCATION:Sciences 3- S3 351
CATEGORIES:Amacc,General,News,Séminaire Algo
END:VEVENT
END:VCALENDAR