BEGIN:VCALENDAR
VERSION:2.0
PRODID:-//GREYC UMR CNRS 6072 - Groupe de Recherche en Informatique, Image, et Instrumentation de Caen - ECPv5.7.0//NONSGML v1.0//EN
CALSCALE:GREGORIAN
METHOD:PUBLISH
X-WR-CALNAME:GREYC UMR CNRS 6072 - Groupe de Recherche en Informatique, Image, et Instrumentation de Caen
X-ORIGINAL-URL:https://www.greyc.fr
X-WR-CALDESC:évènements pour GREYC UMR CNRS 6072 - Groupe de Recherche en Informatique, Image, et Instrumentation de Caen
BEGIN:VTIMEZONE
TZID:Europe/Paris
BEGIN:DAYLIGHT
TZOFFSETFROM:+0100
TZOFFSETTO:+0200
TZNAME:CEST
DTSTART:20240331T010000
END:DAYLIGHT
BEGIN:STANDARD
TZOFFSETFROM:+0200
TZOFFSETTO:+0100
TZNAME:CET
DTSTART:20241027T010000
END:STANDARD
END:VTIMEZONE
BEGIN:VEVENT
DTSTART;TZID=Europe/Paris:20240403T110000
DTEND;TZID=Europe/Paris:20240403T120000
DTSTAMP:20260422T074537
CREATED:20240402T074519Z
LAST-MODIFIED:20240402T074519Z
UID:11471-1712142000-1712145600@www.greyc.fr
SUMMARY:Amine Khaldi - Sécurisation des données médicales en télémédecine par tatouage numérique
DESCRIPTION:Sécurisation des données médicales en télémédecine par tatouage numérique La préservation de la confidentialité des données médicales est fondamentale pour établir et maintenir une relation de confiance entre les patients et les professionnels de la santé\, étant donné la nature sensible des informations qu’elles renferment. Le tatouage numérique émerge comme une solution intéressante pour sécuriser ces données en les intégrant dans des fichiers multimédias\, mais il est crucial de préserver leur intégrité\, notamment pour les images diagnostiques\, afin d’assurer la fiabilité des diagnostics et la sécurité des patients. Cela nécessite la mise en place de mesures de sécurité strictes et une expertise technique approfondie pour garantir que le processus de tatouage n’altère pas le contenu diagnostique des images médicales. \nAu cours des six dernières années\, nos travaux de recherche se sont concentrés sur le tatouage des données médicales\, motivés par les défis inhérents à la préservation de la confidentialité et de l’intégrité de ces informations sensibles. Nous avons exploré diverses méthodes visant à dissimuler efficacement ces données dans des fichiers multimédias\, tout en assurant leur imperceptibilité et leur robustesse. Nos recherches ont abouti à plusieurs approches de tatouage numérique pour différents types de fichiers médicaux\, incluant des fichiers audios\, des ECG et des images. Ces approches\, qu’elles opèrent dans le domaine spatial ou dans le domaine des transformations\, partagent un objectif commun : intégrer le maximum d’informations tout en minimisant les altérations et en garantissant la robustesse du tatouage. \nNous tenterons à travers cette présentation de mettre en lumière six travaux de recherche récents dédiés au tatouage des données médicales\, visant à assurer la sécurité et l’intégrité des informations médicales dans le cadre de la télémédecine. Ces approches englobent diverses méthodes\, allant de l’utilisation de transformations d’ondelettes pour les images médicales à l’intégration de filigranes dans les signaux ECG et les fichiers audio\, en passant par des techniques de cryptage et de compression pour renforcer la sécurité. \n  \nhttps://webconference.unicaen.fr/b/mor-7jm-rcy
URL:https://www.greyc.fr/event/amine-khaldi-securisation-des-donnees-medicales-en-telemedecine-par-tatouage-numerique/
LOCATION:En distanciel
CATEGORIES:General,News,Safe,Séminaire Cryptologie et sécurité
END:VEVENT
BEGIN:VEVENT
DTSTART;TZID=Europe/Paris:20240403T140000
DTEND;TZID=Europe/Paris:20240403T150000
DTSTAMP:20260422T074537
CREATED:20240327T090955Z
LAST-MODIFIED:20240327T090955Z
UID:11469-1712152800-1712156400@www.greyc.fr
SUMMARY:Achref Elouni - Récupération d'Images par le Contenu : Intégration de Techniques Avancées pour Améliorer la Précision et la Localisation
DESCRIPTION:Mes recherches sur la récupération d’images basée sur le contenu (CBIR) visent à améliorer les stratégies existantes en utilisant des approches innovantes et diversifiées. J’ai exploré plusieurs axes pour enrichir les méthodes CBIR\, notamment en intégrant des techniques avancées\, notamment le deep learning (segmentation sémantique). De plus\, j’ai étudié la localisation d’images dans des environnements 3D\, en proposant des méthodes robustes par l’intégration des informations géométriques dans les descripteurs visuels. Ces approches ont permis d’améliorer considérablement la précision de la localisation\, en particulier dans des scénarios complexes où une identification précise est cruciale. \n  \nhttps://webconference.unicaen.fr/b/mor-7jm-rcy
URL:https://www.greyc.fr/event/achref-elouni-recuperation-dimages-par-le-contenu-integration-de-techniques-avancees-pour-ameliorer-la-precision-et-la-localisation/
LOCATION:En distanciel
CATEGORIES:General,News,Safe,Séminaire Cryptologie et sécurité
END:VEVENT
END:VCALENDAR