BEGIN:VCALENDAR
VERSION:2.0
PRODID:-//GREYC UMR CNRS 6072 - Groupe de Recherche en Informatique, Image, et Instrumentation de Caen - ECPv5.7.0//NONSGML v1.0//EN
CALSCALE:GREGORIAN
METHOD:PUBLISH
X-WR-CALNAME:GREYC UMR CNRS 6072 - Groupe de Recherche en Informatique, Image, et Instrumentation de Caen
X-ORIGINAL-URL:https://www.greyc.fr
X-WR-CALDESC:évènements pour GREYC UMR CNRS 6072 - Groupe de Recherche en Informatique, Image, et Instrumentation de Caen
BEGIN:VTIMEZONE
TZID:Europe/Paris
BEGIN:DAYLIGHT
TZOFFSETFROM:+0100
TZOFFSETTO:+0200
TZNAME:CEST
DTSTART:20240331T010000
END:DAYLIGHT
BEGIN:STANDARD
TZOFFSETFROM:+0200
TZOFFSETTO:+0100
TZNAME:CET
DTSTART:20241027T010000
END:STANDARD
END:VTIMEZONE
BEGIN:VEVENT
DTSTART;TZID=Europe/Paris:20240505T080000
DTEND;TZID=Europe/Paris:20240603T170000
DTSTAMP:20260422T044316
CREATED:20240505T183401Z
LAST-MODIFIED:20240505T183704Z
UID:11492-1714896000-1717434000@www.greyc.fr
SUMMARY:Recrutement d'un technicien BAP E en NOEMI CNRS
DESCRIPTION:Le laboratoire GREYC recrute un technicien BAP E (NOEMI CNRS)\, n’hésitez pas à candidater ! \nPour des détails consulter ce lien.
URL:https://www.greyc.fr/event/11492/
CATEGORIES:General,News
END:VEVENT
BEGIN:VEVENT
DTSTART;TZID=Europe/Paris:20240507T080000
DTEND;TZID=Europe/Paris:20240607T170000
DTSTAMP:20260422T044316
CREATED:20240507T152324Z
LAST-MODIFIED:20240507T152511Z
UID:11505-1715068800-1717779600@www.greyc.fr
SUMMARY:Recrutement d'un apprenti de BUT 3 INFO pour le développement et déploiement de logiciels de recherche
DESCRIPTION:Le service Développement et Déploiement d’applications (DDA) du laboratoire GREYC UMR CNRS 6072 souhaite recruter un apprenti de BUT 3A INFO afin de maintenir\, déployer et documenter des applications logicielles portant sur ses activités de recherche. \nRetrouvez cette offre sur notre rubrique emploi à https://www.greyc.fr/laboratoire/#OffresPosteNonPermanent
URL:https://www.greyc.fr/event/11505/
CATEGORIES:General,News
END:VEVENT
BEGIN:VEVENT
DTSTART;TZID=Europe/Paris:20240518T080000
DTEND;TZID=Europe/Paris:20240616T170000
DTSTAMP:20260422T044316
CREATED:20240518T090127Z
LAST-MODIFIED:20240518T090241Z
UID:11521-1716019200-1718557200@www.greyc.fr
SUMMARY:Recrutement à l'IUT GON de 4 enseignant.e.s-chercheur.se.s en Informatique\, IA pour les gestion et l'analyse des données\, sécurité Informatique (CPER avec charge d’enseignement réduite)
DESCRIPTION:Dans le cadre des projets CMA NORMANTHIIA et CYRCE\, l’Université de Caen Normandie recrute quatre enseignant.e.s-chercheur.se.s en informatique\, intelligence artificielle pour la gestion et l’analyse des données\, et sécurité informatique (contrats de projet d’enseignement et de recherche avec charge d’enseignement réduite). La personne recrutée sera rattachée aux départements Informatique\, Réseaux et Télécom ou Sciences des données de l’IUT Grand Ouest Normandie (Sites de Caen\, Ifs et Lisieux) et au laboratoire GREYC UMR 6072. \n\nProfil Intelligence Artificielle pour la gestion et l’analyse de données :\nhttps://choisirleservicepublic.gouv.fr/offre-emploi/enseignant-en-informatique-et-intelligence-artificielle-pour-la-gestion-et-l-analyse-des-donnees-reference-2024-1568577/\nProfil Informatique :\nhttps://choisirleservicepublic.gouv.fr/offre-emploi/contrat-de-projet-d-enseignement-et-de-recherche-informatique-reference-2024-1568590/\nProfil Sécurité Informatique (2 postes) :\nhttps://choisirleservicepublic.gouv.fr/offre-emploi/contrat-de-projet-d-enseignement-et-de-recherche-informatique-reference-2024-1568598/\n\nLes intitulés de poste se veulent génériques et permettent de défendre des projets de recherche variés.\nDes détails sur les postes sont visibles à\nhttps://www.unicaen.fr/universite/travailler-a-luniversite/personnels-enseignants-et-chercheurs/enseignants-contractuels/\nLes candidats pourront déposer leur dossier complet (CV\, lettre de motivation et copie du dernier diplôme obtenu) par mail aux chefs de département avec copie à drh.recrutement.enseignants@unicaen.fr. \nDate limite de candidature : 16 Juin 2024.
URL:https://www.greyc.fr/event/recrutement-a-liut-gon-de-4-enseignant-e-s-chercheur-se-s-en-informatique-ia-pour-les-gestion-et-lanalyse-des-donnees-securite-informatique-cper-avec-charge-denseignement-reduite/
CATEGORIES:General,News
END:VEVENT
END:VCALENDAR