BEGIN:VCALENDAR
VERSION:2.0
PRODID:-//GREYC UMR CNRS 6072 - Groupe de Recherche en Informatique, Image, et Instrumentation de Caen - ECPv5.7.0//NONSGML v1.0//EN
CALSCALE:GREGORIAN
METHOD:PUBLISH
X-WR-CALNAME:GREYC UMR CNRS 6072 - Groupe de Recherche en Informatique, Image, et Instrumentation de Caen
X-ORIGINAL-URL:https://www.greyc.fr
X-WR-CALDESC:évènements pour GREYC UMR CNRS 6072 - Groupe de Recherche en Informatique, Image, et Instrumentation de Caen
BEGIN:VTIMEZONE
TZID:Europe/Paris
BEGIN:DAYLIGHT
TZOFFSETFROM:+0100
TZOFFSETTO:+0200
TZNAME:CEST
DTSTART:20240331T010000
END:DAYLIGHT
BEGIN:STANDARD
TZOFFSETFROM:+0200
TZOFFSETTO:+0100
TZNAME:CET
DTSTART:20241027T010000
END:STANDARD
END:VTIMEZONE
BEGIN:VEVENT
DTSTART;TZID=Europe/Paris:20240531T080000
DTEND;TZID=Europe/Paris:20240915T160000
DTSTAMP:20260422T044629
CREATED:20240531T131443Z
LAST-MODIFIED:20240625T121036Z
UID:11537-1717142400-1726416000@www.greyc.fr
SUMMARY:Recrutement pour une chaire de professeur junior "IA pour les sciences"
DESCRIPTION:L’université de Caen et le GREYC recrutent un.e professeur.e pour une chaire de professeur junior en « IA pour les sciences ». \nL’offre est disponible sur le site internet de l’université et sur EURAXESS. \n\n\n\n\nLes candidatures sont ouvertes du 31 mai 2024\, 10h00 (heure de Paris) au 15 Septembre 2024\, 16h00 (heure de Paris). Les dossiers de candidature sont à déposer sur Galaxie.
URL:https://www.greyc.fr/event/recrutement-dune-chaire-de-professeur-junior-ia-pour-les-sciences/
CATEGORIES:General,News
END:VEVENT
END:VCALENDAR