BEGIN:VCALENDAR
VERSION:2.0
PRODID:-//GREYC UMR CNRS 6072 - Groupe de Recherche en Informatique, Image, et Instrumentation de Caen - ECPv5.7.0//NONSGML v1.0//EN
CALSCALE:GREGORIAN
METHOD:PUBLISH
X-WR-CALNAME:GREYC UMR CNRS 6072 - Groupe de Recherche en Informatique, Image, et Instrumentation de Caen
X-ORIGINAL-URL:https://www.greyc.fr
X-WR-CALDESC:évènements pour GREYC UMR CNRS 6072 - Groupe de Recherche en Informatique, Image, et Instrumentation de Caen
BEGIN:VTIMEZONE
TZID:Europe/Paris
BEGIN:DAYLIGHT
TZOFFSETFROM:+0100
TZOFFSETTO:+0200
TZNAME:CEST
DTSTART:20240331T010000
END:DAYLIGHT
BEGIN:STANDARD
TZOFFSETFROM:+0200
TZOFFSETTO:+0100
TZNAME:CET
DTSTART:20241027T010000
END:STANDARD
END:VTIMEZONE
BEGIN:VEVENT
DTSTART;TZID=Europe/Paris:20241013T080000
DTEND;TZID=Europe/Paris:20241111T170000
DTSTAMP:20260421T221726
CREATED:20241013T154213Z
LAST-MODIFIED:20241013T154213Z
UID:11684-1728806400-1731344400@www.greyc.fr
SUMMARY:Recrutement à l'IUT GON d'un.e enseignant.e-chercheur.e en Informatique (CPER)
DESCRIPTION:Dans le cadre du projet CMA NORMANTHIIA\, l’Université de Caen Normandie recrute un.e enseignant.e.chercheur.e en informatique (contrats de projet d’enseignement et de recherche ). La personne recrutée sera rattachée au département Informatique de l’IUT Grand Ouest Normandie (Site de  Ifs) et au laboratoire GREYC UMR 6072. \nLe poste est décrit ici : https://choisirleservicepublic.gouv.fr/offre-emploi/contrat-de-projet-d-enseignement-et-de-recherche-informatique-reference-2024-1720837/ \nDes détails sont visibles à https://www.unicaen.fr/universite/travailler-a-luniversite/personnels-enseignants-et-chercheurs/enseignants-contractuels/ Les candidats pourront déposer leur dossier complet (CV\, lettre de motivation et copie du dernier diplôme obtenu) par mail au chef de département avec copie à drh.recrutement.enseignants@unicaen.fr. \nDate limite de candidature : 10/11/2024.
URL:https://www.greyc.fr/event/recrutement-a-liut-gon-dun-e-enseignant-e-chercheur-e-en-informatique-cper/
CATEGORIES:General,News
END:VEVENT
BEGIN:VEVENT
DTSTART;TZID=Europe/Paris:20241024T080000
DTEND;TZID=Europe/Paris:20241024T170000
DTSTAMP:20260421T221726
CREATED:20241024T130545Z
LAST-MODIFIED:20241024T130545Z
UID:11707-1729756800-1729789200@www.greyc.fr
SUMMARY:Offre de stage de master 2ème année ou stage de fin d’étude d’ingénieur en informatique en "IA Explicable et qualité des données/modèles"
DESCRIPTION:Ce stage de master s’inscrit dans le cadre du projet Pandora financé par l’ANR (Agence Nationale de la Recherche)\, projet qui démarrera en février 2025. Pandora se situe dans le contexte de l’intelligence artificielle explicable (XAI)\, en particulier dans le domaine des réseaux de neurones sur graphes (GNN). Le stage sera encadré par des chercheurs du groupe CODAG et de l’EPITA de Lyon. \n  \nLa description détaillée du stage se trouve à https://www.greyc.fr/wp-content/uploads/2024/10/Pandora_Epita_GREYC-fr.pdf
URL:https://www.greyc.fr/event/offre-de-stage-de-master-2eme-annee-ou-stage-de-fin-detude-dingenieur-en-informatique-en-ia-explicable-et-qualite-des-donnees-modeles/
CATEGORIES:Codag,General,News
END:VEVENT
END:VCALENDAR