BEGIN:VCALENDAR
VERSION:2.0
PRODID:-//GREYC UMR CNRS 6072 - Groupe de Recherche en Informatique, Image, et Instrumentation de Caen - ECPv5.7.0//NONSGML v1.0//EN
CALSCALE:GREGORIAN
METHOD:PUBLISH
X-WR-CALNAME:GREYC UMR CNRS 6072 - Groupe de Recherche en Informatique, Image, et Instrumentation de Caen
X-ORIGINAL-URL:https://www.greyc.fr
X-WR-CALDESC:évènements pour GREYC UMR CNRS 6072 - Groupe de Recherche en Informatique, Image, et Instrumentation de Caen
BEGIN:VTIMEZONE
TZID:Europe/Paris
BEGIN:DAYLIGHT
TZOFFSETFROM:+0100
TZOFFSETTO:+0200
TZNAME:CEST
DTSTART:20240331T010000
END:DAYLIGHT
BEGIN:STANDARD
TZOFFSETFROM:+0200
TZOFFSETTO:+0100
TZNAME:CET
DTSTART:20241027T010000
END:STANDARD
END:VTIMEZONE
BEGIN:VEVENT
DTSTART;TZID=Europe/Paris:20241203T100000
DTEND;TZID=Europe/Paris:20241203T110000
DTSTAMP:20260421T191107
CREATED:20241118T094407Z
LAST-MODIFIED:20241118T094407Z
UID:11727-1733220000-1733223600@www.greyc.fr
SUMMARY:Séminaire Algorithmique : Nicolas Ollinger (LIFO\, Univ. Orléans)
DESCRIPTION:
URL:https://www.greyc.fr/event/seminaire-algorithmique-nicolas-ollinger-lifo-univ-orleans/
LOCATION:Sciences 3- S3 351
CATEGORIES:Amacc,General,Séminaire Algo
END:VEVENT
END:VCALENDAR