BEGIN:VCALENDAR
VERSION:2.0
PRODID:-//GREYC UMR CNRS 6072 - Groupe de Recherche en Informatique, Image, et Instrumentation de Caen - ECPv5.7.0//NONSGML v1.0//EN
CALSCALE:GREGORIAN
METHOD:PUBLISH
X-WR-CALNAME:GREYC UMR CNRS 6072 - Groupe de Recherche en Informatique, Image, et Instrumentation de Caen
X-ORIGINAL-URL:https://www.greyc.fr
X-WR-CALDESC:évènements pour GREYC UMR CNRS 6072 - Groupe de Recherche en Informatique, Image, et Instrumentation de Caen
BEGIN:VTIMEZONE
TZID:Europe/Paris
BEGIN:DAYLIGHT
TZOFFSETFROM:+0100
TZOFFSETTO:+0200
TZNAME:CEST
DTSTART:20240331T010000
END:DAYLIGHT
BEGIN:STANDARD
TZOFFSETFROM:+0200
TZOFFSETTO:+0100
TZNAME:CET
DTSTART:20241027T010000
END:STANDARD
END:VTIMEZONE
BEGIN:VEVENT
DTSTART;TZID=Europe/Paris:20241210T100000
DTEND;TZID=Europe/Paris:20241210T110000
DTSTAMP:20260421T191016
CREATED:20241210T081530Z
LAST-MODIFIED:20241210T081624Z
UID:11749-1733824800-1733828400@www.greyc.fr
SUMMARY:séminaire algorithmique : "Un Panorama des Modes de Mises à Jour des Réseaux d'Automates Booléens"\, Athénaïs Vaginay (GREYC)
DESCRIPTION:Abstract: Boolean automata networks are used as discrete models of biological systems. They consist of a generalization of cellular automata\, where the grid is replaced by a directed graph\, and each node has its own transition function. Automata change status over time\, according to a chosen update mode\, for example: synchronous\, asynchronous\, general-asynchronous\, and the recently introduced « most-permissive » mode.\nIn this presentation\, we will review those modes and see what they allow (or do not allow) to capture about the dynamics of the underlying biological system. \nRésumé : Les réseaux d’automates Booléens sont utilisés pour modéliser des systèmes biologiques de manière discrète. Ils consistent en une généralisation des automates cellulaires\, où la grille est remplacée par un graphe dirigé\, et chaque nœud a sa propre fonction de transition. Le status des automates évolue dans le temps et plusieurs mode de mise à jour peuvent être utilisés\, par exemple : synchrone\, asynchrone\, asynchrone général et\, introduit récemment\, le « plus-permissif ».\nDans cette présentation\, nous allons les passer en revue\, et voir ce qu’ils permettent (ou non) de capturer de la dynamique du système biologique sous-jacent.
URL:https://www.greyc.fr/event/seminaire-algorithmique-un-panorama-des-modes-de-mises-a-jour-des-reseaux-dautomates-booleens-athenais-vaginay-greyc/
LOCATION:Sciences 3- S3 351
CATEGORIES:Amacc,General,Séminaire Algo
END:VEVENT
END:VCALENDAR