BEGIN:VCALENDAR
VERSION:2.0
PRODID:-//GREYC UMR CNRS 6072 - Groupe de Recherche en Informatique, Image, et Instrumentation de Caen - ECPv5.7.0//NONSGML v1.0//EN
CALSCALE:GREGORIAN
METHOD:PUBLISH
X-WR-CALNAME:GREYC UMR CNRS 6072 - Groupe de Recherche en Informatique, Image, et Instrumentation de Caen
X-ORIGINAL-URL:https://www.greyc.fr
X-WR-CALDESC:évènements pour GREYC UMR CNRS 6072 - Groupe de Recherche en Informatique, Image, et Instrumentation de Caen
BEGIN:VTIMEZONE
TZID:Europe/Paris
BEGIN:DAYLIGHT
TZOFFSETFROM:+0100
TZOFFSETTO:+0200
TZNAME:CEST
DTSTART:20250330T010000
END:DAYLIGHT
BEGIN:STANDARD
TZOFFSETFROM:+0200
TZOFFSETTO:+0100
TZNAME:CET
DTSTART:20251026T010000
END:STANDARD
END:VTIMEZONE
BEGIN:VEVENT
DTSTART;TZID=Europe/Paris:20250130T080000
DTEND;TZID=Europe/Paris:20250207T170000
DTSTAMP:20260421T154434
CREATED:20250130T151219Z
LAST-MODIFIED:20250130T151232Z
UID:11784-1738224000-1738947600@www.greyc.fr
SUMMARY:[Forum] L’intelligence artificielle : vecteur de transformation des services à l’industrie nucléaire
DESCRIPTION:Le Forum intitulé « L’intelligence artificielle : vecteur de transformation des services à l’industrie nucléaire » est organisé le 5 et 6 février 2025 à l’IUT Grand Ouest Normandie à Cherbourg-en-Cotentin. \nLe programme est visible ici. \nVous pouvez vous inscrire pour y assister : ici.
URL:https://www.greyc.fr/event/11784/
CATEGORIES:General,News
END:VEVENT
BEGIN:VEVENT
DTSTART;TZID=Europe/Paris:20250204T104500
DTEND;TZID=Europe/Paris:20250204T114500
DTSTAMP:20260421T154434
CREATED:20250204T142044Z
LAST-MODIFIED:20250204T142044Z
UID:11789-1738665900-1738669500@www.greyc.fr
SUMMARY:Séminaire algorithmique : Béatrice Bérard (LIP6\, Sorbonne Univ.)\, « The reachability problem for Polynomial Interrupt Timed Automata»
DESCRIPTION:Hybrid automata form an expressive model to describe systems combining continuous and discrete evolution modes. However\, most verification problems are undecidable for this model. \nWe recall the particular case of Timed Automata where the reachability problem is PSPACE-complete. We introduce the class of Interrupt Timed Automata featuring special clocks called stopwatches that can be suspended. We show how to decide reachability when these automata are extended with polynomial constraints\, using techniques from computer algebra.
URL:https://www.greyc.fr/event/seminaire-algorithmique-beatrice-berard-lip6-sorbonne-univ-the-reachability-problem-for-polynomial-interrupt-timed-automata/
LOCATION:Sciences 3- S3 351
CATEGORIES:Amacc,General,News,Séminaire Algo
END:VEVENT
END:VCALENDAR