BEGIN:VCALENDAR
VERSION:2.0
PRODID:-//GREYC UMR CNRS 6072 - Groupe de Recherche en Informatique, Image, et Instrumentation de Caen - ECPv5.7.0//NONSGML v1.0//EN
CALSCALE:GREGORIAN
METHOD:PUBLISH
X-WR-CALNAME:GREYC UMR CNRS 6072 - Groupe de Recherche en Informatique, Image, et Instrumentation de Caen
X-ORIGINAL-URL:https://www.greyc.fr
X-WR-CALDESC:évènements pour GREYC UMR CNRS 6072 - Groupe de Recherche en Informatique, Image, et Instrumentation de Caen
BEGIN:VTIMEZONE
TZID:Europe/Paris
BEGIN:DAYLIGHT
TZOFFSETFROM:+0100
TZOFFSETTO:+0200
TZNAME:CEST
DTSTART:20220327T010000
END:DAYLIGHT
BEGIN:STANDARD
TZOFFSETFROM:+0200
TZOFFSETTO:+0100
TZNAME:CET
DTSTART:20221030T010000
END:STANDARD
END:VTIMEZONE
BEGIN:VEVENT
DTSTART;TZID=Europe/Paris:20220315T140000
DTEND;TZID=Europe/Paris:20220315T153000
DTSTAMP:20260424T015339
CREATED:20220216T174917Z
LAST-MODIFIED:20230307T085247Z
UID:10728-1647352800-1647358200@www.greyc.fr
SUMMARY:Séminaire IMAGE : Vision par ordinateur au service du patrimoine culturel (Matthieu Pizenberg)
DESCRIPTION:Titre : Vision par ordinateur au service du patrimoine culturel\n\nRésumé : Cette présentation d’environ 1h résume l’ensemble des travaux auxquels j’ai participé pendant ces deux dernières années de post-doctorat dans l’équipe IMAGE du GREYC. Je fais un tour d’horizon des étapes menant à la réalisation d’artefacts numériques 2D et 3D de la Tapisserie de Bayeux. On parlera d’acquisition\, d’alignement multimodal\, de reconstruction 3D par stéréophotométrie\, de visualisation\, et de technos Web pour améliorer l’accessibilité de nos travaux.
URL:https://www.greyc.fr/event/seminaire-image-vision-par-ordinateur-au-service-du-patrimoine-culturel-matthieu-pizenberg/
LOCATION:ENSICAEN – Batiment F – Salle F-200\, 6 Bd Maréchal Juin\, Caen\, 14050\, France
CATEGORIES:General,Image,Seminaire Image
END:VEVENT
END:VCALENDAR