BEGIN:VCALENDAR
VERSION:2.0
PRODID:-//GREYC UMR CNRS 6072 - Groupe de Recherche en Informatique, Image, et Instrumentation de Caen - ECPv5.7.0//NONSGML v1.0//EN
CALSCALE:GREGORIAN
METHOD:PUBLISH
X-WR-CALNAME:GREYC UMR CNRS 6072 - Groupe de Recherche en Informatique, Image, et Instrumentation de Caen
X-ORIGINAL-URL:https://www.greyc.fr
X-WR-CALDESC:évènements pour GREYC UMR CNRS 6072 - Groupe de Recherche en Informatique, Image, et Instrumentation de Caen
BEGIN:VTIMEZONE
TZID:Europe/Paris
BEGIN:DAYLIGHT
TZOFFSETFROM:+0100
TZOFFSETTO:+0200
TZNAME:CEST
DTSTART:20230326T010000
END:DAYLIGHT
BEGIN:STANDARD
TZOFFSETFROM:+0200
TZOFFSETTO:+0100
TZNAME:CET
DTSTART:20231029T010000
END:STANDARD
END:VTIMEZONE
BEGIN:VEVENT
DTSTART;TZID=Europe/Paris:20231113T140000
DTEND;TZID=Europe/Paris:20231113T150000
DTSTAMP:20260422T141929
CREATED:20231103T152607Z
LAST-MODIFIED:20231103T152607Z
UID:11302-1699884000-1699887600@www.greyc.fr
SUMMARY:Séminaire IMAGE : «  Cognitive Diversity as the New Frontier of Design Process »
DESCRIPTION:Nous aurons le plaisir d’écouter la Prof. Luciana Pereira de l’Universidade Federal do ABC (UFABC)\, Brazil.\nElle donnera un séminaire IMAGE\, le lundi  13 novembre 2023\, à 14h00\, en salle de séminaire F-200.\nTitre: Cognitive Diversity as the New Frontier of Design Process\n\nRésumé: This presentation proposes a reflection on the cognitive process used by designers when building a solution during design activities. The assumption is that diversity in cognition is critical to the design process. As a result\, multi-sensory\, or multi-modal experiences should be incorporated into design teams more so than interdisciplinary ones.\nIt is important to consider the cognitive requirements of multi-sensory experiences in the conceptual phase of design. It is a challenge to move forward the knowledge in the design field by including people with diverse cognitive perspectives not to test a solution\, but during the design process that creates an entire new system. The only way to achieve that is to embrace diversity in design schools together with the way design education is delivered.\n\nKeywords : Design Cognition\, Multi-modal Design\, Multi-sensory Teams\, Design Education.
URL:https://www.greyc.fr/event/seminaire-image-cognitive-diversity-as-the-new-frontier-of-design-process/
LOCATION:ENSICAEN – Batiment F – Salle F-200\, 6 Bd Maréchal Juin\, Caen\, 14050\, France
CATEGORIES:Image,Seminaire Image
END:VEVENT
END:VCALENDAR