BEGIN:VCALENDAR
VERSION:2.0
PRODID:-//GREYC UMR CNRS 6072 - Groupe de Recherche en Informatique, Image, et Instrumentation de Caen - ECPv5.7.0//NONSGML v1.0//EN
CALSCALE:GREGORIAN
METHOD:PUBLISH
X-WR-CALNAME:GREYC UMR CNRS 6072 - Groupe de Recherche en Informatique, Image, et Instrumentation de Caen
X-ORIGINAL-URL:https://www.greyc.fr
X-WR-CALDESC:évènements pour GREYC UMR CNRS 6072 - Groupe de Recherche en Informatique, Image, et Instrumentation de Caen
BEGIN:VTIMEZONE
TZID:Europe/Paris
BEGIN:DAYLIGHT
TZOFFSETFROM:+0100
TZOFFSETTO:+0200
TZNAME:CEST
DTSTART:20210328T010000
END:DAYLIGHT
BEGIN:STANDARD
TZOFFSETFROM:+0200
TZOFFSETTO:+0100
TZNAME:CET
DTSTART:20211031T010000
END:STANDARD
END:VTIMEZONE
BEGIN:VEVENT
DTSTART;VALUE=DATE:20210527
DTEND;VALUE=DATE:20210528
DTSTAMP:20260424T175441
CREATED:20210414T125731Z
LAST-MODIFIED:20210414T125731Z
UID:10327-1622073600-1622159999@www.greyc.fr
SUMMARY:Journée NormaSTIC : Activités de l’Axe IMAGE autour du patrimoine.
DESCRIPTION:Le développement des technologies numériques autour du patrimoine est un domaine en pleine effervescence. Plusieurs aspects peuvent être considérés aussi bien la numérisation (tel que la photographie HD d’un tableau\, le scanner 3D d’une sculpture\, la numérisation d’une archive ou d’un fond précieux\, etc.) que l’indexation des œuvres\, ou la reconstitution virtuelle. L’objectif principal de cette journée est d’établir un état des lieux des travaux menés en Normandie. Les contributions attendues peuvent aussi bien traiter les aspects théoriques que les aspects applicatifs de ce domaine. \nCet évènement NormaSTIC aura lieu en distanciel par visio conférence. \nLe programme comporte 2 exposés invités : \n\nUn exposé long sera présenté par Madame Edwige Pissaloux\, Professeur des universités  à l’université de Rouen.\nUn exposé long sera présenté par Monsieur Abderrahim El Moataz Billah\, Professeur des universités  à l’université de Caen Normandie.\n\net des présentations moyennes et courtes.
URL:https://www.greyc.fr/event/journee-normastic-activites-de-laxe-image-autour-du-patrimoine/
CATEGORIES:Image,Seminaire Image
END:VEVENT
END:VCALENDAR