BEGIN:VCALENDAR
VERSION:2.0
PRODID:-//GREYC UMR CNRS 6072 - Groupe de Recherche en Informatique, Image, et Instrumentation de Caen - ECPv5.7.0//NONSGML v1.0//EN
CALSCALE:GREGORIAN
METHOD:PUBLISH
X-WR-CALNAME:GREYC UMR CNRS 6072 - Groupe de Recherche en Informatique, Image, et Instrumentation de Caen
X-ORIGINAL-URL:https://www.greyc.fr
X-WR-CALDESC:évènements pour GREYC UMR CNRS 6072 - Groupe de Recherche en Informatique, Image, et Instrumentation de Caen
BEGIN:VTIMEZONE
TZID:Europe/Paris
BEGIN:DAYLIGHT
TZOFFSETFROM:+0100
TZOFFSETTO:+0200
TZNAME:CEST
DTSTART:20220327T010000
END:DAYLIGHT
BEGIN:STANDARD
TZOFFSETFROM:+0200
TZOFFSETTO:+0100
TZNAME:CET
DTSTART:20221030T010000
END:STANDARD
END:VTIMEZONE
BEGIN:VEVENT
DTSTART;TZID=Europe/Paris:20221110T140000
DTEND;TZID=Europe/Paris:20221110T153000
DTSTAMP:20260423T123727
CREATED:20221017T155500Z
LAST-MODIFIED:20230307T085501Z
UID:10977-1668088800-1668094200@www.greyc.fr
SUMMARY:Séminaire IMAGE: Phuc Ngo (Université de Lorraine)\, « Structures discrètes pour l'étude des courbes bruitées et leurs applications en analyse d'images ».
DESCRIPTION:Nous aurons le plaisir d’accueillir Phuc Ngo (https://members.loria.fr/HDPNgo/)\, MC de l’université de Lorraine la semaine du 7 novembre.\nElle donnera un séminaire IMAGE\, le jeudi 10 novembre à 14h00\, en salle F-200.\nTitre : Structures discrètes pour l’étude des courbes bruitées et leurs applications en analyse d’images.\nRésumé :\nDurant l’acquisition\, les images peuvent subir des fluctuations parasites ou des dégradations qui engendrent ensuite du bruit sur l’image. Dans de nombreuses applications en vision par ordinateur\, la présence de bruit peut rendre difficile la tâche d’analyse\, et affecter considérablement les résultats finaux. Dans ce travail\, nous nous intéressons à différents outils géométriques efficaces permettant d’analyser et d’étudier des courbes discrètes bruitées qui correspondent aux contours d’objets présents dans une image.\nDans le domaine de la géométrie discrète\, la couverture tangentielle est un outil permettant d’étudier les caractéristiques géométriques des courbes discrètes. Dans cet exposé\, nous présenterons une variante de cette structure pour l’étude des courbes bruitées : la couverture tangentielle adaptative. Elle repose sur deux notions : (1) les segments flous et (2) l’épaisseur significative. La particularité de la couverture tangentielle adaptative est qu’elle est composée de segments flous d’épaisseurs variées qui s’adaptent automatiquement et localement au bruit présent sur la courbe. Cette structure conduit à de nombreuses applications dans le domaine de l’analyse d’images et de reconnaissance de formes telle que la représentation de formes\, la vectorisation d’images\, la décomposition de courbes\, etc. Une extension de la structure de couverture tangentielle adaptative pour des courbes discrètes 3D est également présentée avec ses applications pour des estimateurs géométriques de tangentes et de courbure.\n 
URL:https://www.greyc.fr/event/seminaire-image-phuc-ngo-mdc-de-luniversite-de-lorraine-structures-discretes-pour-letude-des-courbes-bruitees-et-leurs-applications-en-analyse-dimages/
LOCATION:ENSICAEN – Batiment F – Salle F-200\, 6 Bd Maréchal Juin\, Caen\, 14050\, France
CATEGORIES:General,Image,Seminaire Image
END:VEVENT
END:VCALENDAR