BEGIN:VCALENDAR
VERSION:2.0
PRODID:-//GREYC UMR CNRS 6072 - Groupe de Recherche en Informatique, Image, et Instrumentation de Caen - ECPv5.7.0//NONSGML v1.0//EN
CALSCALE:GREGORIAN
METHOD:PUBLISH
X-WR-CALNAME:GREYC UMR CNRS 6072 - Groupe de Recherche en Informatique, Image, et Instrumentation de Caen
X-ORIGINAL-URL:https://www.greyc.fr
X-WR-CALDESC:évènements pour GREYC UMR CNRS 6072 - Groupe de Recherche en Informatique, Image, et Instrumentation de Caen
BEGIN:VTIMEZONE
TZID:Europe/Paris
BEGIN:DAYLIGHT
TZOFFSETFROM:+0100
TZOFFSETTO:+0200
TZNAME:CEST
DTSTART:20240331T010000
END:DAYLIGHT
BEGIN:STANDARD
TZOFFSETFROM:+0200
TZOFFSETTO:+0100
TZNAME:CET
DTSTART:20241027T010000
END:STANDARD
END:VTIMEZONE
BEGIN:VEVENT
DTSTART;TZID=Europe/Paris:20240926T140000
DTEND;TZID=Europe/Paris:20240926T150000
DTSTAMP:20260421T233110
CREATED:20240909T152438Z
LAST-MODIFIED:20240913T114012Z
UID:11646-1727359200-1727362800@www.greyc.fr
SUMMARY:Séminaire IMAGE : "The (topological) tree of shapes: Structure\, Construction and Applications"\, Julien Mendes Forte
DESCRIPTION:Nous aurons le plaisir d’écouter Julien Mendes Forte\, doctorant de l’équipe IMAGE du GREYC.\nIl donnera un séminaire IMAGE  le jeudi 26 septembre à 14h00 en salle de séminaire F-200. \nTitre : « The (topological) tree of shapes: Structure\, Construction and Applications » \nRésumé :\nThe topological tree of shapes (TToS) is a new hierarchical graph-based structure defined in the framework of mathematical morphology that models topological information of grey-level digital images. In recent works a theoretical study [1] and an efficient construction scheme based on the well-kown tree of shapes (ToS) [2] were proposed for the TToS. In this talk\, we will describe the TToS\, its properties\, the way to build it\, preliminary filtering results and the its potential applications. Additionally\, we also focus on the ToS\, from which the TToS derives\, and the underlying issue of modifying the ToS without respecting a specific set of rules. \nRéférences :\n[1] Nicolas Passat\, Julien Mendes Forte\, Yukiko Kenmochi. Morphological Hierarchies: A Unifying Framework with New Trees. Journal of Mathematical Imaging and Vision\, 65(5):718–753\, 2023.\n[2] Julien Mendes Forte\, Nicolas Passat\, Yukiko Kenmochi. Building the topological tree of shapes from the tree of shapes. International Conference on Discrete Geometry and Mathematical Morphology (DGMM)\, pp. 271–285\, 2024.
URL:https://www.greyc.fr/event/seminaire-image-the-topological-tree-of-shapes-structure-construction-and-applications-julien-mendes-forte/
LOCATION:ENSICAEN – Batiment F – Salle F-200\, 6 Bd Maréchal Juin\, Caen\, 14050\, France
CATEGORIES:Image,Seminaire Image
END:VEVENT
END:VCALENDAR